BEGIN:VCALENDAR
VERSION:2.0
PRODID:-//wp-events-plugin.com//7.2.3.1//EN
TZID:Europe/Amsterdam
X-WR-TIMEZONE:Europe/Amsterdam
BEGIN:VEVENT
UID:36216@agenda-zaanstreek.nl
DTSTART;TZID=Europe/Amsterdam:20250201T200000
DTEND;TZID=Europe/Amsterdam:20250201T200000
DTSTAMP:20241205T105915Z
URL:https://agenda-zaanstreek.nl/events/opvliegers-girls-on-fire-2-50-en-s
 till-on-fire/
SUMMARY:Opvliegers Girls on Fire 2 - 50+ en still on fire
DESCRIPTION:&nbsp\;\nNa een seizoen bomvolle zalen met voluit meezingende e
 n dansende dames komen de vriendinnen Lone van Roosendaal\, Linda Wagenmak
 ers en Hilke Bierman terug met het leukste feelgood-vriendinnenconcert van
  het seizoen: Opvliegers Girls on Fire 2. Dus\, trek je dansschoenen uit d
 e kast\, vul je bidon met witte wijn en vergeet je waaier niet in je tas t
 e stoppen.\n\n\n\n\nOpvliegers Girls on Fire 2&nbsp\;is een fonkelnieuwe&n
 bsp\;show vol bekende hits. Verwacht een swingende\, hilarische avond uit\
 , afgewisseld met herkenbare en ontroerende verhalen. Hilke vindt misschie
 n wel haar innerlijke 'Zen Master’. Linda blijft met gemak bij de tijd\,
  terwijl Lone al blij is als ze een foto kan versturen met haar telefoon.&
 nbsp\; Lone vindt dat het 50 het nieuwe 30\, maar twijfelt achteraf of ze 
 de kosten van haar ‘beauty-geheim’ niet beter in een tweede huis op Ib
 iza had kunnen investeren.\n\nKortom: Lone\, Linda en Hilke nemen je in&nb
 sp\;Opvliegers Girls on Fire 2&nbsp\;mee op een muzikale&nbsp\;reis waar o
 pvliegers en hilariteit hand in hand gaan. Het leukste avondje uit met vri
 endinnen (en je beste vriend)!&nbsp\;\n\n\n\n
CATEGORIES:Muziek,Theater
LOCATION:Zaantheater\, Nicolaasstraat 3\, Zaandam\, 1506 BB\, Nederland
X-APPLE-STRUCTURED-LOCATION;VALUE=URI;X-ADDRESS=Nicolaasstraat 3\, Zaandam\
 , 1506 BB\, Nederland;X-APPLE-RADIUS=100;X-TITLE=Zaantheater:geo:0,0
END:VEVENT
BEGIN:VTIMEZONE
TZID:Europe/Amsterdam
X-LIC-LOCATION:Europe/Amsterdam
BEGIN:STANDARD
DTSTART:20241027T020000
TZOFFSETFROM:+0200
TZOFFSETTO:+0100
TZNAME:CET
END:STANDARD
END:VTIMEZONE
END:VCALENDAR