BEGIN:VCALENDAR
VERSION:2.0
PRODID:-//wp-events-plugin.com//7.2.3.1//EN
TZID:Europe/Amsterdam
X-WR-TIMEZONE:Europe/Amsterdam
BEGIN:VEVENT
UID:39118@agenda-zaanstreek.nl
DTSTART;TZID=Europe/Amsterdam:20250615T143000
DTEND;TZID=Europe/Amsterdam:20250615T143000
DTSTAMP:20250612T072925Z
URL:https://agenda-zaanstreek.nl/events/optreden-zangeres-sandra-mooy-in-m
 ennistenerf/
SUMMARY:Optreden zangeres Sandra Mooy in Mennistenerf
DESCRIPTION:Zangeres Sandra Mooy treedt zondag 15 juni op in zorgcentrum Me
 nnistenerf\, H. Gerhardstraat 77.&nbsp\;\n\n\n\nIn het verleden zong ze ve
 el countrymuziek\, nu heeft ze een heel divers repertoire van zowel Engels
 talige als Nederlandstalige muziek.\n\nAanvang: 14.30 uur. Zaal open: 14.0
 0 uur. Toegangskaartjes zijn te koop bij de receptie van Mennistenerf. Bew
 oners van Mennistenerf en Pennemes betalen voor een kaartje € 2\,50\, vo
 or gasten van buiten is de toegang € 5.\n\n
CATEGORIES:Muziek,Sociaal
LOCATION:Zorgcentrum Mennistenerf\, H. Gerhardstraat 77\, Zaandam\, 1502 CC
 \, Nederland
X-APPLE-STRUCTURED-LOCATION;VALUE=URI;X-ADDRESS=H. Gerhardstraat 77\, Zaand
 am\, 1502 CC\, Nederland;X-APPLE-RADIUS=100;X-TITLE=Zorgcentrum Mennistene
 rf:geo:0,0
END:VEVENT
BEGIN:VTIMEZONE
TZID:Europe/Amsterdam
X-LIC-LOCATION:Europe/Amsterdam
BEGIN:DAYLIGHT
DTSTART:20250330T030000
TZOFFSETFROM:+0100
TZOFFSETTO:+0200
TZNAME:CEST
END:DAYLIGHT
END:VTIMEZONE
END:VCALENDAR