BEGIN:VCALENDAR
VERSION:2.0
PRODID:-//wp-events-plugin.com//7.2.3.1//EN
TZID:Europe/Amsterdam
X-WR-TIMEZONE:Europe/Amsterdam
BEGIN:VEVENT
UID:37324@agenda-zaanstreek.nl
DTSTART;TZID=Europe/Amsterdam:20250214T100000
DTEND;TZID=Europe/Amsterdam:20250214T120000
DTSTAMP:20250213T101657Z
URL:https://agenda-zaanstreek.nl/events/opening-nieuwe-tuingroep-bij-ooste
 rgouw/
SUMMARY:Opening Nieuwe tuingroep bij Oostergouw
DESCRIPTION:Op vrijdag 14 februari (Valentijnsdag) opent verpleeghuis Ooste
 rgouw\, Koningin Julianaweg 10\, de nieuwe tuingroep en kas. Een liefdevol
 le\, groene en inspirerende plek voor bewoners\, vrijwilligers en bezoeker
 s. De kas beidt de mogelijkheid om het hele jaar door te kweken en te oogs
 ten. De dagbesteding geeft daarmee de bewoners plezier en uitdaging in een
  natuurlijke omgeving. De opening is van 10.00 uur tot 12.00 uur en wordt 
 gedaan door wethouder Harry van der Laan. Er is muzikale ondersteuning van
  Bertje Doperwtje\, de 'groene' artiest uit Alkmaar.&nbsp\;
CATEGORIES:Sociaal
LOCATION:Evean Oostergouw\, Koningin Julianaweg 10\, Zaandam\, 1502 DZ\, Ne
 derland
X-APPLE-STRUCTURED-LOCATION;VALUE=URI;X-ADDRESS=Koningin Julianaweg 10\, Za
 andam\, 1502 DZ\, Nederland;X-APPLE-RADIUS=100;X-TITLE=Evean Oostergouw:ge
 o:0,0
END:VEVENT
BEGIN:VTIMEZONE
TZID:Europe/Amsterdam
X-LIC-LOCATION:Europe/Amsterdam
BEGIN:STANDARD
DTSTART:20241027T020000
TZOFFSETFROM:+0200
TZOFFSETTO:+0100
TZNAME:CET
END:STANDARD
END:VTIMEZONE
END:VCALENDAR