BEGIN:VCALENDAR
VERSION:2.0
PRODID:-//wp-events-plugin.com//7.2.3.1//EN
TZID:Europe/Amsterdam
X-WR-TIMEZONE:Europe/Amsterdam
BEGIN:VEVENT
UID:38103@agenda-zaanstreek.nl
DTSTART;TZID=Europe/Amsterdam:20250404T180000
DTEND;TZID=Europe/Amsterdam:20250404T210000
DTSTAMP:20250403T094429Z
URL:https://agenda-zaanstreek.nl/events/opening-expositie-artists-in-revol
 t-pop-art-als-instrument-voor-radicale-verandering/
SUMMARY:Opening expositie Artists in Revolt: Pop-Art als instrument voor ra
 dicale verandering
DESCRIPTION:Wederom doet galeriehouder Jeroen van Paassen spraakmakend van 
 zich spreken. Dat doet hij in de expositie ‘Artists in Revolt: Pop-Art a
 ls instrument voor radicale verandering’. Op vrijdag 4 april tussen 18.0
 0 en 21.00 uur is de opening van de expositie in PLAY room\, Westzijde 99.
 \nKnipoog naar de Bed-In actie van John Lennon en Joko Ono. Het duo lag va
 n 25 maart tot 31 maart 1969 in bed bij het Amsterdamse Hiltonhotel.\n‘K
 unst en cultuur zijn het cement wat de samenleving bij elkaar houdt’\nEr
  zijn dan onder meer voordrachten van Nick J. Swarth\, Magdeleen van Eerse
 l en Electro Noise van\nRaserMäher. Op vrijdag 18 april vanaf 19.00 uur i
 s er een voorleesavond met politiek correcte sprookjes.\n“Kunst en cultu
 ur zijn het cement wat de samenleving bij elkaar houdt. Wanneer de politie
 k druk bezig is\nom groepen tegen elkaar op te zetten\, is het hoog tijd v
 oor de kunst om zich ook op dat strijdtoneel te\nbegeven. Met deze exposit
 ie wil PLAY room een tegenantwoord te geven op de wereldwijde verrechtsing
 .\nHoe kunnen we blijven dromen over de ideale samenleving\, waarin een ie
 der gelijk is? Hoe verbinden we\nverschillende groepen met elkaar. Het ant
 woord van PLAY room is: door in actie te komen\, door de\nconfrontatie aan
  te gaan. En dat alles met een gezonde dosis humor”.
CATEGORIES:Expositie
LOCATION:PLAY Room\, Westzijde 99\, Zaandam\, 1506 GA\, Nederland
X-APPLE-STRUCTURED-LOCATION;VALUE=URI;X-ADDRESS=Westzijde 99\, Zaandam\, 15
 06 GA\, Nederland;X-APPLE-RADIUS=100;X-TITLE=PLAY Room:geo:0,0
END:VEVENT
BEGIN:VTIMEZONE
TZID:Europe/Amsterdam
X-LIC-LOCATION:Europe/Amsterdam
BEGIN:DAYLIGHT
DTSTART:20250330T030000
TZOFFSETFROM:+0100
TZOFFSETTO:+0200
TZNAME:CEST
END:DAYLIGHT
END:VTIMEZONE
END:VCALENDAR