BEGIN:VCALENDAR
VERSION:2.0
PRODID:-//wp-events-plugin.com//7.2.3.1//EN
TZID:Europe/Amsterdam
X-WR-TIMEZONE:Europe/Amsterdam
BEGIN:VEVENT
UID:40592@agenda-zaanstreek.nl
DTSTART;TZID=Europe/Amsterdam:20251107T133000
DTEND;TZID=Europe/Amsterdam:20251109T133000
DTSTAMP:20251106T105901Z
URL:https://agenda-zaanstreek.nl/events/open-wormer-kolftoernooi/
SUMMARY:Open Wormer Kolftoernooi
DESCRIPTION:Met trots kunnen we melden dat er dit jaar weer een Open Wormer
  Kolftoernooi wordt gespeeld. Het wordt al weer de 32 editie van dit mooie
  toernooi.\n\nHet toernooi start op woensdagavond 5 november en op zondagm
 iddag 9 november wordt de finale gespeeld.\n\nNamens TOGIDO Wormer willen 
 we de kolfdames en heren uitnodigen om mee te doen aan dit toernooi.&nbsp\
 ;\n\nDe voorrondes worden gespeeld op:\n\n 	5 november woensdagavond\n 	7 
 november vrijdagmorgen\, middag en avond\n 	8 november zaterdagmorgen en m
 iddag.\n\n’s morgens starten we om 10 uur en is er plaats voor 15 deelne
 mers\n\n’s middags starten we om 13.30 uur en is er plaats voor 15 deeln
 emers\n\n’s avond starten we om 19.30 uur en is er plaats voor 21 deelne
 mers\n\nDe finale spelen we op zondag 9 november. Aanvang 13.00 uur en dan
  spelen de 12 dames en 12 heren die de meeste punten in de voorrondes hebb
 en geslagen.\n\nGraag opgeven via de mail bij: mark.aberkrom@yahoo.com &nb
 sp\;\n\nBij de aanmelding graag aantallen deelnemers per dagdeel opgeven. 
 Indeling gebeurt op volgorde van aanmelding. “Wie het eerst komt\, wie h
 et eerst maalt” en “Vol is vol”. Na acceptatie van de aanmelding ont
 vangt u een mail ter bevestiging van de inschrijving. De bevestiging is le
 idend.&nbsp\;\n\nHet inschrijfgeld bedraagt 7\,50 Euro per deelnemer.\n\nD
 e inschrijving sluit op vrijdag 24 oktober.\n\nDit prachtige toernooi is m
 ede mogelijk door een financiele bijdrage van de Koninklijke Nederlandsche
  Kolfbond.
CATEGORIES:Recreatiesport
LOCATION:Herberg “Het Moriaanshoofd”\, Dorpsstraat 417\, Wormer\, 1531 
 HL\, Nederland
X-APPLE-STRUCTURED-LOCATION;VALUE=URI;X-ADDRESS=Dorpsstraat 417\, Wormer\, 
 1531 HL\, Nederland;X-APPLE-RADIUS=100;X-TITLE=Herberg “Het Moriaanshoof
 d”:geo:0,0
END:VEVENT
BEGIN:VTIMEZONE
TZID:Europe/Amsterdam
X-LIC-LOCATION:Europe/Amsterdam
BEGIN:STANDARD
DTSTART:20251026T020000
TZOFFSETFROM:+0200
TZOFFSETTO:+0100
TZNAME:CET
END:STANDARD
END:VTIMEZONE
END:VCALENDAR