BEGIN:VCALENDAR
VERSION:2.0
PRODID:-//wp-events-plugin.com//7.2.3.1//EN
TZID:Europe/Amsterdam
X-WR-TIMEZONE:Europe/Amsterdam
BEGIN:VEVENT
UID:37739@agenda-zaanstreek.nl
DTSTART;TZID=Europe/Amsterdam:20250420T130000
DTEND;TZID=Europe/Amsterdam:20250420T160000
DTSTAMP:20250313T083627Z
URL:https://agenda-zaanstreek.nl/events/open-middag-kerk-van-krommeniedijk
 -met-expositie-jacco-tuijn-2/
SUMMARY:Open middag Kerk van Krommeniedijk met expositie Jacco Tuijn
DESCRIPTION:Na een winterstop van vier maanden zal de kerk van Krommeniedij
 k komende zondag weer open zijn om te bezichtigen. Er is dan informatie ov
 er de historie van dit monumentale kerkje uit 1755 en er zijn vrijwilliger
 s die er alles over kunnen vertellen.\n\nBehalve het mooie interieur van d
 e kerk is er ook een expositie te zien van fotograaf Jacco Tuijn.\n\nFotog
 raaf Jacco Tuijn (1967) exposeert zijn foto’s in maart en april in de ke
 rk van Krommeniedijk. Jacco is bekend van zijn fotopagina’s in Nieuwsbla
 d de Kennemer: 'Jacco wandelt meestal\, fietst soms en vaart af en toe lan
 gs mooie plekken en evenementen in zijn omgeving en maakt foto’s.’&nbs
 p\;\n\nJacco exposeerde al eerder in Kringloopwinkel ‘de groene Ezel’\
 , in Gezondheidscentrum Broekpolder\, in Verpleeghuis Meerstate\, in Café
  Lokaal\, in het gemeentehuis en onlangs nog tijdens de Etalage Kunstroute
  (allen Heemskerk). Ook exposeerde hij in Heliomare in Wijk aan Zee\, in W
 ijkcentrum Prinsenhof in Beverwijk en bij&nbsp\; ‘Art Wildrijk’ in Sin
 t Maartensvlotbrug. Zijn laatste tentoonstelling was eind 2024 in de Zuide
 rvermaning in Westzaan.\n\nUit de brochure van Art Wildrijk: ‘Jacco Tuij
 n (Heemskerk\, 1967) observeert scherp en heeft oog voor detail. Hij laat 
 zich inspireren door het alledaagse en legt datgene dat hij ziet treffend 
 vast. Jacco reist graag en tijdens deze reizen is hij altijd op zoek naar 
 onderwerpen voor zijn foto’s.’\n\nJacco werd in 2022 gekozen tot ‘Do
 rpsfotograaf van Heemskerk’. De jury over de winnende foto: ‘Een intri
 gerend beeld dat tot de verbeelding spreekt. Hier wordt een verhaal vertel
 d. Net als een andere inzending van Jacco\, die nét niet de winnende foto
  is geworden\, is dit een perfect voorbeeld van wat we in het Nederlands z
 o mooi ‘storytelling’ noemen.’\n\nTijdens de open middagen op de 3e 
 zondag van de maand tussen 13:00 en 16:00 uur is de expositie in de kerk v
 an Krommeniedijk te bezoeken.\n\n&nbsp\;
CATEGORIES:Erfgoed,Expositie
LOCATION:De kerk van Krommeniedijk\, Krommeniedijk 182\, Krommenie\, 1562 G
 T\, Nederland
X-APPLE-STRUCTURED-LOCATION;VALUE=URI;X-ADDRESS=Krommeniedijk 182\, Krommen
 ie\, 1562 GT\, Nederland;X-APPLE-RADIUS=100;X-TITLE=De kerk van Krommenied
 ijk:geo:0,0
END:VEVENT
BEGIN:VTIMEZONE
TZID:Europe/Amsterdam
X-LIC-LOCATION:Europe/Amsterdam
BEGIN:DAYLIGHT
DTSTART:20250330T030000
TZOFFSETFROM:+0100
TZOFFSETTO:+0200
TZNAME:CEST
END:DAYLIGHT
END:VTIMEZONE
END:VCALENDAR