BEGIN:VCALENDAR
VERSION:2.0
PRODID:-//wp-events-plugin.com//7.2.3.1//EN
TZID:Europe/Amsterdam
X-WR-TIMEZONE:Europe/Amsterdam
BEGIN:VEVENT
UID:37103@agenda-zaanstreek.nl
DTSTART;TZID=Europe/Amsterdam:20250211T140000
DTEND;TZID=Europe/Amsterdam:20250211T160000
DTSTAMP:20250130T131057Z
URL:https://agenda-zaanstreek.nl/events/open-huis-archeologie/
SUMMARY:Open Huis Archeologie
DESCRIPTION:Om geïnteresseerden onze museale archeologische collectie te t
 onen\, houden wij sinds april 2022 eens in de maand open huis in onze werk
 ruimte aan de&nbsp\;Tuinstraat 27A\, 1544 RS te Zaandijk.&nbsp\;\n\nDit do
 en wij op elke tweede dinsdag van de maand\, van 14.00 tot 16.00 uur.\nRij
 k verleden\nDe Zaanstreek was al bewoond tussen 800 en 500 voor Chr. en in
  de eeuwen rond het begin van de jaartelling. Wij hebben uit die vroege pe
 rioden veel vondsten in onze collectie. Ook uit de Middeleeuwen en de peri
 oden daarna zijn er veel vondsten\, allemaal ooit in de bodem achtergelate
 n door de toenmalige inwoners. Kom maar eens kennis maken met het Zaanse v
 erleden en deze vroegere streekgenoten. U bent van harte welkom.\n\n
CATEGORIES:Erfgoed
LOCATION:Werkruimte AWN\, de Vereniging van Vrijwilligers in de Archeologie
 \, Tuinstraat 27 A\, Zaandijk\, 1544 RS\, Nederland
X-APPLE-STRUCTURED-LOCATION;VALUE=URI;X-ADDRESS=Tuinstraat 27 A\, Zaandijk\
 , 1544 RS\, Nederland;X-APPLE-RADIUS=100;X-TITLE=Werkruimte AWN\, de Veren
 iging van Vrijwilligers in de Archeologie:geo:0,0
END:VEVENT
BEGIN:VTIMEZONE
TZID:Europe/Amsterdam
X-LIC-LOCATION:Europe/Amsterdam
BEGIN:STANDARD
DTSTART:20241027T020000
TZOFFSETFROM:+0200
TZOFFSETTO:+0100
TZNAME:CET
END:STANDARD
END:VTIMEZONE
END:VCALENDAR