BEGIN:VCALENDAR
VERSION:2.0
PRODID:-//wp-events-plugin.com//7.2.3.1//EN
TZID:Europe/Amsterdam
X-WR-TIMEZONE:Europe/Amsterdam
BEGIN:VEVENT
UID:37325@agenda-zaanstreek.nl
DTSTART;TZID=Europe/Amsterdam:20250323T103000
DTEND;TZID=Europe/Amsterdam:20250323T103000
DTSTAMP:20250213T101928Z
URL:https://agenda-zaanstreek.nl/events/open-bridgekampioenschap-van-zaans
 tad/
SUMMARY:Open Bridgekampioenschap van Zaanstad
DESCRIPTION:Buurtcentrum De Vuister organiseert voor de twaalfde keer het O
 pen Bridgekampioenschap van Zaanstad. De kaarten komen op tafel op 23 maar
 t vanaf 10.30 uur. De inschrijving is nu begonnen.\n\nDigitale editie Zaan
 stad 13 februari 2025\n\n&nbsp\;
CATEGORIES:Spellen (bingo-bridge-etc)
LOCATION:Buurthuis De Vuister\, Molenwerf 158\, Koog aan de Zaan\, 1541 WR\
 , Nederland
X-APPLE-STRUCTURED-LOCATION;VALUE=URI;X-ADDRESS=Molenwerf 158\, Koog aan de
  Zaan\, 1541 WR\, Nederland;X-APPLE-RADIUS=100;X-TITLE=Buurthuis De Vuiste
 r:geo:0,0
END:VEVENT
BEGIN:VTIMEZONE
TZID:Europe/Amsterdam
X-LIC-LOCATION:Europe/Amsterdam
BEGIN:STANDARD
DTSTART:20241027T020000
TZOFFSETFROM:+0200
TZOFFSETTO:+0100
TZNAME:CET
END:STANDARD
END:VTIMEZONE
END:VCALENDAR