BEGIN:VCALENDAR
VERSION:2.0
PRODID:-//wp-events-plugin.com//7.2.3.1//EN
TZID:Europe/Amsterdam
X-WR-TIMEZONE:Europe/Amsterdam
BEGIN:VEVENT
UID:38220@agenda-zaanstreek.nl
DTSTART;TZID=Europe/Amsterdam:20250510T100000
DTEND;TZID=Europe/Amsterdam:20250510T160000
DTSTAMP:20250417T090104Z
URL:https://agenda-zaanstreek.nl/events/open-bij-de-stichting-lettergieten
 -westzaan/
SUMMARY:Open bij de Stichting Lettergieten Westzaan
DESCRIPTION:OPEN DAG 10 MEI LETTERGIETEN WESTZAAN \n\nMet boekenmarkt en de
 monstratie miniatuurboeken.\n\nOp zaterdag 10 mei gaan tijdens de Open Dag
  de deuren open bij de Stichting Lettergieten. \n\nTijdens de Open Dag sta
 an diverse machines te draaien in de museumwerkplaats\, waarbij u kunt zie
 n \n\nhoe op verschillende manieren loden letters worden gegoten en worden
  toegepast in ambachtelijke \n\ndruktechnieken.\n\nBijzonder is ditmaal de
  bijdrage van een speciale gast\, Tine Krijnen. Zij is zeer succesvol in h
 et maken van\n\nminiatuurboekjes en andere miniatuurpapierwaren. Zij zal o
 nder andere een demonstratie geven van\n\ngoud- en zilverfolie pregen\, wa
 arbij bezoekers het zelf ook eens mogen proberen!\n\nEen vast onderdeel va
 n de Open Dag is de grafische boekenmarkt\, waar voor de liefhebber de nod
 ige\n\npareltjes te vinden zijn\, van grafische handboeken tot fraai vormg
 egeven speciale uitgaven.\n\nStichting Lettergieten is te vinden op de Jac
 obus van Waertstraat 53 in Westzaan.\n\nIedereen is welkom op 10 mei van 1
 0.00 tot 16.00 uur\, de toegang is gratis.\n\nEen bezoek aan de Open Dag i
 s uitstekend te combineren met een bezoek aan\n\nPapiermolen De Schoolmees
 ter\, die zich op korte afstand van de werkplaats bevindt en eveneens geop
 end is.
CATEGORIES:Erfgoed
LOCATION:Museum Lettergieten\, Jacobus van Waertstraat 53\, Westzaan\, 1551
  CJ\, Nederland
X-APPLE-STRUCTURED-LOCATION;VALUE=URI;X-ADDRESS=Jacobus van Waertstraat 53\
 , Westzaan\, 1551 CJ\, Nederland;X-APPLE-RADIUS=100;X-TITLE=Museum Letterg
 ieten:geo:0,0
END:VEVENT
BEGIN:VTIMEZONE
TZID:Europe/Amsterdam
X-LIC-LOCATION:Europe/Amsterdam
BEGIN:DAYLIGHT
DTSTART:20250330T030000
TZOFFSETFROM:+0100
TZOFFSETTO:+0200
TZNAME:CEST
END:DAYLIGHT
END:VTIMEZONE
END:VCALENDAR