BEGIN:VCALENDAR
VERSION:2.0
PRODID:-//wp-events-plugin.com//7.2.3.1//EN
TZID:Europe/Amsterdam
X-WR-TIMEZONE:Europe/Amsterdam
BEGIN:VEVENT
UID:38335@agenda-zaanstreek.nl
DTSTART;TZID=Europe/Amsterdam:20250512T170000
DTEND;TZID=Europe/Amsterdam:20250512T200000
DTSTAMP:20250422T185830Z
URL:https://agenda-zaanstreek.nl/events/open-avond-je-worsteling-met-eten-
 en-gewicht-loslaten/
SUMMARY:Open avond - Je worsteling met eten en gewicht loslaten!
DESCRIPTION:\n&nbsp\;\nOPEN AVOND 12 mei in ZAANDAM\n\n\nVRIJ ZIJN IN ETEN\
 n\n\nJe worsteling met eten en gewicht loslaten!\n\n\nEERSTE STAPPEN OP WE
 G NAAR DUURZAAM HERSTEL\n\n\nJe kunt je aanmelden voor een kort individuee
 l gesprekje waarin we graag al je vragen beantwoorden: iedereen is welkom.
  Aanmelden kan via: mirjam@praktijk-itsmylijf.nl of joke@praktijk-itsmylij
 f.nl\n\n\nEERSTE STAPPEN OP WEG NAAR DUURZAAM HERSTEL\n\n\nIn de week van 
 de Open Avond (12-16 mei) kun je je ook opgeven voor een kort individueel 
 traject (data in overleg) dit voor een sterk gereduceerd tarief.\n\n\n2 ge
 sprekken van 45 minuten bij Joke van Scheers\, diëtiste : €75\n\n\n2 ge
 sprekken van 45 minuten bij Mirjam Koops\, therapeute: €75\n\n\nTotaal 4
  gesprekken voor totaal €150\n\n\nOpen avond 12 mei\n\n\nTijd: 17.00-20.
 00 uur\n\n\nLocatie: Vlielandstraat 2\, 1506 ZK Zaandam\n\n\ntot ziens op 
 12 mei.\n\n\nMirjam Koops en Joke van Scheers\n
CATEGORIES:Cursus Workshop
LOCATION:De Groene Bark\, Provincialeweg 302\, Zaandam\, Nederland
X-APPLE-STRUCTURED-LOCATION;VALUE=URI;X-ADDRESS=Provincialeweg 302\, Zaanda
 m\, Nederland;X-APPLE-RADIUS=100;X-TITLE=De Groene Bark:geo:0,0
END:VEVENT
BEGIN:VTIMEZONE
TZID:Europe/Amsterdam
X-LIC-LOCATION:Europe/Amsterdam
BEGIN:DAYLIGHT
DTSTART:20250330T030000
TZOFFSETFROM:+0100
TZOFFSETTO:+0200
TZNAME:CEST
END:DAYLIGHT
END:VTIMEZONE
END:VCALENDAR