BEGIN:VCALENDAR
VERSION:2.0
PRODID:-//wp-events-plugin.com//7.2.3.1//EN
TZID:Europe/Amsterdam
X-WR-TIMEZONE:Europe/Amsterdam
BEGIN:VEVENT
UID:37478@agenda-zaanstreek.nl
DTSTART;TZID=Europe/Amsterdam:20250321T193000
DTEND;TZID=Europe/Amsterdam:20250321T210000
DTSTAMP:20250226T132539Z
URL:https://agenda-zaanstreek.nl/events/open-atelier-productieteam-zaansta
 d-maakplek-2025-03-21/
SUMMARY:Open Atelier Productieteam Zaanstad (maakplek)
DESCRIPTION:Iedere vrijdag* komen de FluXus jongeren van het Productieteam 
 Zaanstad 's avonds bij elkaar om hun creativiteit te delen en lekker te kl
 etsen en tekenen. Wil je eens kennismaken met het team\, dan ben je van ha
 rte welkom op mee te doen. Samen met professionals werkt het productieteam
  aan opdrachten binnen en buiten FluXus. Dat kunnen filmpjes zijn maar ook
  decors of muurschilderingen. Open Atelier: dus gewoon binnenlopen.\n\nLoc
 atie:&nbsp\;FluXus Verkadefabriek\, Westzijde 168\, Zaandam\n\nDatum:&nbsp
 \;elke vrijdagavond (m.u.v. schoolvakanties)\n\nTijd:&nbsp\;van 19.30 uur 
 tot 21.00 uur\n\nToegang:&nbsp\;is kosteloos maar er wordt wel inzet en be
 trokkenheid verwacht!\n\nVoor wie:&nbsp\;Het Productieteam Zaanstad is de 
 maakplek voor getalenteerde creatieve jongeren van 14 t/m 21 jaar.\n\nhttp
 s://www.fluxus.nl/agenda/open-atelier-bij-productieteam/
CATEGORIES:Cursus Workshop
LOCATION:Fluxus\, centrum voor de kunsten - locatie Verkade\, Westzijde 168
 \, Zaandam\, 1506 EK\, Nederland
X-APPLE-STRUCTURED-LOCATION;VALUE=URI;X-ADDRESS=Westzijde 168\, Zaandam\, 1
 506 EK\, Nederland;X-APPLE-RADIUS=100;X-TITLE=Fluxus\, centrum voor de kun
 sten - locatie Verkade:geo:0,0
END:VEVENT
BEGIN:VTIMEZONE
TZID:Europe/Amsterdam
X-LIC-LOCATION:Europe/Amsterdam
BEGIN:STANDARD
DTSTART:20241027T020000
TZOFFSETFROM:+0200
TZOFFSETTO:+0100
TZNAME:CET
END:STANDARD
END:VTIMEZONE
END:VCALENDAR