BEGIN:VCALENDAR
VERSION:2.0
PRODID:-//wp-events-plugin.com//7.2.3.1//EN
TZID:Europe/Amsterdam
X-WR-TIMEZONE:Europe/Amsterdam
BEGIN:VEVENT
UID:37643@agenda-zaanstreek.nl
DTSTART;TZID=Europe/Amsterdam:20250312T193000
DTEND;TZID=Europe/Amsterdam:20250312T213000
DTSTAMP:20250306T161637Z
URL:https://agenda-zaanstreek.nl/events/op-weg-naar-80-jaar-bevrijding/
SUMMARY:Op weg naar 80 jaar Bevrijding
DESCRIPTION:\n\n\n\n\n&nbsp\;\n\n\n\n&nbsp\;\n\nFoto: Peter Arno Broer\n\n\
 n\n\n\nWelke keuzen maken mensen in crises en in oorlogstijd?\nMargarithe 
 Veen interviewt Erik Schaap. Erik is auteur van onder meer het boek Walrav
 en van Hall. Door dit boek is ‘Bankier van het Verzet’ aan het licht g
 ekomen. Welke keuzen maken mensen in crises en in oorlogstijd? Een vraag d
 ie Erik bezighoudt wanneer hij de levensverhalen van mensen onderzoekt. Bi
 jzondere aandacht zal er zijn voor mensen uit de Zaanstreek\, zoals Walrav
 en van Hall en Geertje Pel – Groot\, van haar vind je een plakkaat in de
  Vermaning van Zaandam ter nagedachtenis aan haar.\n\n\n\n
CATEGORIES:Theatercolleges &amp; Salons
LOCATION:Doopsgezinde Vermaning Zaandam\, Westzijde 80\, Zaandam\, 1506 EG\
 , Nederland
X-APPLE-STRUCTURED-LOCATION;VALUE=URI;X-ADDRESS=Westzijde 80\, Zaandam\, 15
 06 EG\, Nederland;X-APPLE-RADIUS=100;X-TITLE=Doopsgezinde Vermaning Zaanda
 m:geo:0,0
END:VEVENT
BEGIN:VTIMEZONE
TZID:Europe/Amsterdam
X-LIC-LOCATION:Europe/Amsterdam
BEGIN:STANDARD
DTSTART:20241027T020000
TZOFFSETFROM:+0200
TZOFFSETTO:+0100
TZNAME:CET
END:STANDARD
END:VTIMEZONE
END:VCALENDAR