BEGIN:VCALENDAR
VERSION:2.0
PRODID:-//wp-events-plugin.com//7.2.3.1//EN
TZID:Europe/Amsterdam
X-WR-TIMEZONE:Europe/Amsterdam
BEGIN:VEVENT
UID:39276@agenda-zaanstreek.nl
DTSTART;TZID=Europe/Amsterdam:20250628T170000
DTEND;TZID=Europe/Amsterdam:20250628T170000
DTSTAMP:20250619T093130Z
URL:https://agenda-zaanstreek.nl/events/oomssport-skeelercup-6-engewormer/
SUMMARY:Oomssport Skeelercup 6 Engewormer
DESCRIPTION:\n\n\n\nInschrijvingOpent:&nbsp\;09-03-25 20:00\nSluit:&nbsp\;2
 7-06-25 17:00\nBoete na sluiting:\nAfmelden tot:&nbsp\;27-06-25 17:00\n\n\
 nOrganisatieOomssport Skeelercup\n\n 	E-mail:&nbsp\;info@skeelercup.nl\n 	
 Telefoon: 0627883604\n 	Website:&nbsp\;https://www.skeelercup.nl/\n\n\n\n\
 nExtra informatie\nDeelnemers dienen zich in te schrijven via schaatsen.nl
  en dan verder via inschrijven wedstrijden. Inschrijfgeld voor de gehele c
 ompetitie is € 50\,-\, een losse wedstrijd kost € 10\,-. Als je geen w
 edstrijdlicentie hebt (noodzakelijk om aan deze marathon mee te doen) is h
 et mogelijk om maximaal 3 keer per jaar via de KNSB een wedstrijddaglicent
 ie aan te schaffen. Dit kun je regelen tijdens het inschrijven via schaats
 en.nl en kost € 8\,24 (t/m 18 jaar €5\,67).\nInschrijven na sluiting o
 p het parcours zelf kost € 12\,50. Hier is het niet mogelijk om een dagw
 edstrijdlicentie aan te schaffen\, dus schrijf op tijd via de site in.\n\n
 De marathon wordt gereden over een afstand van 44 km (8 ronden). Als de ee
 rste finisht\, finisht iedereen.\n\n\n\n 	&nbsp\;Informatie\n 	&nbsp\;Insc
 hrijven\n 	&nbsp\;Deelnemers\n\nFoto: Thijs van Tol
CATEGORIES:Recreatiesport
LOCATION:Manege Veldt\, Engewormer 25\, Wormer\, 1531 MX\, Nederland
X-APPLE-STRUCTURED-LOCATION;VALUE=URI;X-ADDRESS=Engewormer 25\, Wormer\, 15
 31 MX\, Nederland;X-APPLE-RADIUS=100;X-TITLE=Manege Veldt:geo:0,0
END:VEVENT
BEGIN:VTIMEZONE
TZID:Europe/Amsterdam
X-LIC-LOCATION:Europe/Amsterdam
BEGIN:DAYLIGHT
DTSTART:20250330T030000
TZOFFSETFROM:+0100
TZOFFSETTO:+0200
TZNAME:CEST
END:DAYLIGHT
END:VTIMEZONE
END:VCALENDAR