BEGIN:VCALENDAR
VERSION:2.0
PRODID:-//wp-events-plugin.com//7.2.3.1//EN
TZID:Europe/Amsterdam
X-WR-TIMEZONE:Europe/Amsterdam
BEGIN:VEVENT
UID:36349@agenda-zaanstreek.nl
DTSTART;TZID=Europe/Amsterdam:20250220T143000
DTEND;TZID=Europe/Amsterdam:20250220T143000
DTSTAMP:20241212T103739Z
URL:https://agenda-zaanstreek.nl/events/ontregelende-voorstelling-voor-een
 -avontuurlijk-publiek-flexibel-als-het-ware-6/
SUMMARY:Ontregelende voorstelling voor een avontuurlijk publiek - Flexibel 
 (als het ware) (6+)
DESCRIPTION:&nbsp\;\nJos en José\, een dynamisch duo op de fiets\, zijn op
  terugreis en lijken klaar voor elke situatie. Maar wanneer ze per ongeluk
  een theater binnenrijden\, worden ze geconfronteerd met onverwachtse uitd
 agingen. Ze moeten obstakels overkomen\, listen bedenken en problemen oplo
 ssen.\n\n\n\n\nGewapend met energierepen en waterflesjes in hun heuptassen
  en een bulk aan gereedschap in hun zakken\, zijn ze normaal gesproken onv
 erschrokken in het oplossen van problemen. Maar dit keer belanden ze in si
 tuaties die zelfs zij niet hebben kunnen voorzien. Hoe flexibel ben je nou
  eigenlijk\, als alles tegen lijkt te zitten?\n\nDeze avontuurlijke roadtr
 ip is losjes geïnspireerd op het beroemde verhaal van Odysseus. Deze Grie
 kse held moest een jarenlange tocht maken om thuis te komen. Alle strubbel
 ingen onderweg terug laten zien dat alles draait om de reis zelf.\n\nFlexi
 bel (als het ware)&nbsp\;is een meeslepende theatertocht voor kinderen van
 af 6 jaar. (Let op: ook leuk voor volwassen kinderen!)\n\n\n\n
CATEGORIES:Jeugd en Familie,Theater
LOCATION:Zaantheater\, Nicolaasstraat 3\, Zaandam\, 1506 BB\, Nederland
X-APPLE-STRUCTURED-LOCATION;VALUE=URI;X-ADDRESS=Nicolaasstraat 3\, Zaandam\
 , 1506 BB\, Nederland;X-APPLE-RADIUS=100;X-TITLE=Zaantheater:geo:0,0
END:VEVENT
BEGIN:VTIMEZONE
TZID:Europe/Amsterdam
X-LIC-LOCATION:Europe/Amsterdam
BEGIN:STANDARD
DTSTART:20241027T020000
TZOFFSETFROM:+0200
TZOFFSETTO:+0100
TZNAME:CET
END:STANDARD
END:VTIMEZONE
END:VCALENDAR