BEGIN:VCALENDAR
VERSION:2.0
PRODID:-//wp-events-plugin.com//7.2.3.1//EN
TZID:Europe/Amsterdam
X-WR-TIMEZONE:Europe/Amsterdam
BEGIN:VEVENT
UID:40873@agenda-zaanstreek.nl
DTSTART;TZID=Europe/Amsterdam:20251219T170000
DTEND;TZID=Europe/Amsterdam:20251219T190000
DTSTAMP:20251211T104056Z
URL:https://agenda-zaanstreek.nl/events/om-zien-fototentoonstelling-buurtb
 ewoners-de-zuidhoek/
SUMMARY:Om...zien\; Fototentoonstelling Buurtbewoners De Zuidhoek
DESCRIPTION:\nOm de verbinding tussen bewoners in diverse buurtjes in Zaand
 am Zuid te versterken\, zijn Hanneke van Lindert\, Ellen Vlottes &amp\; Sa
 skia de Man van de gemeente Zaanstad begonnen met het narratief werken: he
 t verhalen en perspectieven delen\, het samen betekenis geven en ook samen
  beweging maken.\n\n\n\n\nIn Zaandam Zuid doen zij dit in de vorm van port
 retten van buurtbewoners &amp\; hun verhalen over de buurt &amp\; het leve
 n zelf. Fotograaf David Beekhuis maakt een portret van de buurtbewoners\, 
 terwijl hun verhalen worden opgetekend door team Narratieven. Stadmakers J
 acob &amp\; Geertje maakten de korte tekstjes bij de foto’s\n\nOp vrijda
 g 19 december is een feestelijke opening in buurthuis de Zuidhoek. Vanaf 1
 7:00 is iedereen welkom voor een hapje en een drankje en het bekijken van 
 de mooie portretten van de bewoners.\n\n\n\n\n
CATEGORIES:Expositie,Sociaal
LOCATION:Buurthuis De Zuidhoek\, Wilgenstraat 11\, Zaandam\, 1505 TE\, Nede
 rland
X-APPLE-STRUCTURED-LOCATION;VALUE=URI;X-ADDRESS=Wilgenstraat 11\, Zaandam\,
  1505 TE\, Nederland;X-APPLE-RADIUS=100;X-TITLE=Buurthuis De Zuidhoek:geo:
 0,0
END:VEVENT
BEGIN:VTIMEZONE
TZID:Europe/Amsterdam
X-LIC-LOCATION:Europe/Amsterdam
BEGIN:STANDARD
DTSTART:20251026T020000
TZOFFSETFROM:+0200
TZOFFSETTO:+0100
TZNAME:CET
END:STANDARD
END:VTIMEZONE
END:VCALENDAR