BEGIN:VCALENDAR
VERSION:2.0
PRODID:-//wp-events-plugin.com//7.2.3.1//EN
TZID:Europe/Amsterdam
X-WR-TIMEZONE:Europe/Amsterdam
BEGIN:VEVENT
UID:40562@agenda-zaanstreek.nl
DTSTART;TZID=Europe/Amsterdam:20251113T170000
DTEND;TZID=Europe/Amsterdam:20251113T183000
DTSTAMP:20251103T200019Z
URL:https://agenda-zaanstreek.nl/events/oekraiense-taalworkshop/
SUMMARY:Oekraïense Taalworkshop
DESCRIPTION:\n\n&nbsp\;\nNieuwsgierig naar de Oekraïense taal? Laten we kl
 ein beginnen.\n\n\nVoel de melodie\, ontdek een paar interessante weetjes 
 en leer hoe je kunt begroeten\, afscheid neemt of jezelf voorstelt in het 
 Oekraïens.\n\n\nWe nodigen je uit in de Oekra ïense Club voor een open O
 ekraïense masterclass.\n\n\n Dit is geen gewone les - het is een warme on
 tmoeting\, een kennismaking met de taal en tegelijkertijd een andere manie
 r om de Oekraïense taal en cultuur te ontdekken. \n\n\n  De masterclass w
 ordt geleid door Viktoriia Masnenko @vicnikangel - een filoloog van onderw
 ijs en een docent Oekraïens als vreemde taal. Viktoriia geeft al bijna tw
 ee jaar Oekraïens les aan Nederlandse burgers bij de Oekra ïense Club in
  Zaandam.\n\n\n 13.11.2025\n 17:00 - 18:30 (ca. 1 uur masterclass\, gevolg
 d door thee/koffie en informeel gesprek)\n Oekraïense Club (Rozengracht 6
 –8\, Zaandam)\n Deelname is gratis\, vooraf inschrijven is verplicht htt
 ps://forms.gle/5Fz1zRanR5nDUxbH7\n\n\n Iedereen die geïnteresseerd is in 
 Oekraïne\, zijn taal en cultuur is welkom!\n\n\nEr is geen voorervaring i
 n het Oekraïens nodig.\n
CATEGORIES:Cursus Workshop
LOCATION:Oekraïense Club\, Rozengracht 6-8\, Zaandam\, 1506 SC\, Nederland
X-APPLE-STRUCTURED-LOCATION;VALUE=URI;X-ADDRESS=Rozengracht 6-8\, Zaandam\,
  1506 SC\, Nederland;X-APPLE-RADIUS=100;X-TITLE=Oekraïense Club:geo:0,0
END:VEVENT
BEGIN:VTIMEZONE
TZID:Europe/Amsterdam
X-LIC-LOCATION:Europe/Amsterdam
BEGIN:STANDARD
DTSTART:20251026T020000
TZOFFSETFROM:+0200
TZOFFSETTO:+0100
TZNAME:CET
END:STANDARD
END:VTIMEZONE
END:VCALENDAR