BEGIN:VCALENDAR
VERSION:2.0
PRODID:-//wp-events-plugin.com//7.2.3.1//EN
TZID:Europe/Amsterdam
X-WR-TIMEZONE:Europe/Amsterdam
BEGIN:VEVENT
UID:36227@agenda-zaanstreek.nl
DTSTART;TZID=Europe/Amsterdam:20250212T200000
DTEND;TZID=Europe/Amsterdam:20250212T200000
DTSTAMP:20241205T111618Z
URL:https://agenda-zaanstreek.nl/events/normality-no-more-conny-janssen-da
 nst-via-berlin-en-ragazze-quartet/
SUMMARY:Normality No More - Conny Janssen Danst\, Via Berlin en Ragazze Qua
 rtet
DESCRIPTION:&nbsp\;\nWat is normaal en wie bepaalt dat? In Normality No Mor
 e&nbsp\;– een samensmelting van muziektheater\, moderne dans en klassiek
 e muziek – nemen drie topgezelschappen je mee in een neurodiverse belevi
 ngswereld. Grenzen vervagen tussen normaal en vreemd\, neurotypisch en neu
 rodivers\, toeschouwer en deelnemer.\n\n\n\n\nEen bestseller in de klassie
 ke muziek\, Schuberts&nbsp\;Winterreise\, wordt omgetoverd. In de oorspron
 kelijke&nbsp\;Winterreise&nbsp\;legt de hoofdpersoon een eenzame\, winters
 e reis af\, nadat zijn liefde hem verlaten heeft. Op zoek naar innerlijke 
 rust\, maar gekweld en achtervolgd door herinneringen\, blijft hij vertwij
 feld achter op het ijs.\n\nIn&nbsp\;Normality No More&nbsp\;smelten modern
 e dans\, muziektheater en klassieke muziek samen tot een nieuwe versie: ee
 n ode aan het divergente brein en een oproep tot begrip en empathie voor m
 ensen die de wereld anders ervaren dan de grote massa. Alle dansers\, musi
 ci en acteurs spelen een personage geïnspireerd op zowel persoonlijke erv
 aringen als wetenschappelijk onderzoek over neurodivergentie.\n\nZij tonen
  hun kracht en kwetsbaarheid\, omarmen hun eigen diversiteit en verlangen 
 tegelijkertijd naar sociale integratie. Het publiek ervaart hoe het is om 
 in de huid te kruipen van mensen die als ‘vreemd’ worden gezien en ont
 dekt de unieke\, veelzijdige en wonderlijke kwaliteiten van de neurodivers
 e mens.\n\n\n\n
CATEGORIES:Dans
LOCATION:Zaantheater\, Nicolaasstraat 3\, Zaandam\, 1506 BB\, Nederland
X-APPLE-STRUCTURED-LOCATION;VALUE=URI;X-ADDRESS=Nicolaasstraat 3\, Zaandam\
 , 1506 BB\, Nederland;X-APPLE-RADIUS=100;X-TITLE=Zaantheater:geo:0,0
END:VEVENT
BEGIN:VTIMEZONE
TZID:Europe/Amsterdam
X-LIC-LOCATION:Europe/Amsterdam
BEGIN:STANDARD
DTSTART:20241027T020000
TZOFFSETFROM:+0200
TZOFFSETTO:+0100
TZNAME:CET
END:STANDARD
END:VTIMEZONE
END:VCALENDAR