BEGIN:VCALENDAR
VERSION:2.0
PRODID:-//wp-events-plugin.com//7.2.3.1//EN
TZID:Europe/Amsterdam
X-WR-TIMEZONE:Europe/Amsterdam
BEGIN:VEVENT
UID:38978@agenda-zaanstreek.nl
DTSTART;TZID=Europe/Amsterdam:20250629T153000
DTEND;TZID=Europe/Amsterdam:20250629T190000
DTSTAMP:20250529T101825Z
URL:https://agenda-zaanstreek.nl/events/njmt-mamagaai-speelt-legally-blond
 e/
SUMMARY:NJMT/Mamagaai speelt Legally Blonde (2x)
DESCRIPTION:zondag 29 juni\nwww.mamagaai.nl\nDe theaterschool van Haarlem &
 amp\; Heemstede\n\n\nJeugdtheaterschool Mamagaai is de plek voor kinderen 
 en jongeren om in de wereld van musical en theater te stappen.\n\nEen plek
  waar je de ruimte krijgt om te onderzoeken en te verdwalen om zo te ontde
 kken wat theater voor jou is en kan zijn. Een plek waar je in een sfeer va
 n veiligheid\, echtheid en ongeremde creativiteit samen met je docenten en
  medespelers op avontuur kan gaan\, herinneringen maakt. Een plek waar je 
 verhalen naar het theater brengt en toont aan je publiek. Zo proberen we a
 lles uit de kinderen te halen op het gebied van\, zang\, dans\, theater en
  muziek!\n\n
CATEGORIES:Musical,Theater
LOCATION:De KunstGreep\, Kerkbuurt 4\, Oostzaan\, 1511 BD\, Nederland
X-APPLE-STRUCTURED-LOCATION;VALUE=URI;X-ADDRESS=Kerkbuurt 4\, Oostzaan\, 15
 11 BD\, Nederland;X-APPLE-RADIUS=100;X-TITLE=De KunstGreep:geo:0,0
END:VEVENT
BEGIN:VTIMEZONE
TZID:Europe/Amsterdam
X-LIC-LOCATION:Europe/Amsterdam
BEGIN:DAYLIGHT
DTSTART:20250330T030000
TZOFFSETFROM:+0100
TZOFFSETTO:+0200
TZNAME:CEST
END:DAYLIGHT
END:VTIMEZONE
END:VCALENDAR