BEGIN:VCALENDAR
VERSION:2.0
PRODID:-//wp-events-plugin.com//7.2.3.1//EN
TZID:Europe/Amsterdam
X-WR-TIMEZONE:Europe/Amsterdam
BEGIN:VEVENT
UID:40875@agenda-zaanstreek.nl
DTSTART;TZID=Europe/Amsterdam:20251214T103000
DTEND;TZID=Europe/Amsterdam:20251214T103000
DTSTAMP:20251211T105107Z
URL:https://agenda-zaanstreek.nl/events/nivon-lezing-ed-zijp-over-lapland/
SUMMARY:NIVON Lezing: ‘Ed Zijp over Lapland’
DESCRIPTION:\n\n\n\n\n\n\n\n&nbsp\;\n\n\n\n\n\n\n\n\n\n\n\n\n\n\n\n\n\n\n\n
 \nLapland (of Samenland) is de culturele regio in de meest noordelijke del
 en van Noorwegen\, Zweden\, Finland en Rusland\, die van oudsher bevolkt w
 orden door de Samen (ook wel Lappen genoemd). De Samen beschikken wel over
  meerdere talen\, maar niet over een eigen staat.&nbsp\;Lapland ligt zo di
 cht bij de poolstreken\, dat de winters lang en ijzig koud zijn. In de win
 termaanden komt de zon er niet op (poolnachten) en in de zomermaanden gaat
  de zon hier niet onder (middernachtzon). De Samen hebben in de loop der e
 euwen geleerd zich aan te passen aan deze barre omstandigheden. Ze leven t
 raditioneel van hun rendierkudden\, die rendiermos en andere korstmossoort
 en eten.\n\n\n\n\n\nLapland wordt ook wel ‘de laatste wildernis van Euro
 pa’ genoemd! Het landschap wordt gekenmerkt door een bergachtig land met
  uitgestrekte bossen\, kale vlaktes en vele meren.\n\nMet deze lezing word
  je meegenomen van de taiga in het zuiden tot de toendra in het hoge noord
 en. Beelden van het bijzondere landschap en de ongerepte natuur ondersteun
 en het verhaal van de lezing.\n\nDe zaal is open vanaf 10.00 uur&nbsp\;\nP
 laats: Buurtcentrum De Pelikaan\, Kervelstraat 185a\, Krommenie&nbsp\;\n\n
 \n\n\n\n\nPrijs:&nbsp\;Nivon leden € 6\,00 / Niet-leden € 8\,00\n\n\n\
 n\n\n\n\n\n\n\n\n\n
CATEGORIES:Lezing
LOCATION:Buurtcentrum De Pelikaan\, Kervelstraat 185-A\, Krommenie\, 1562 A
 J\, Nederland
X-APPLE-STRUCTURED-LOCATION;VALUE=URI;X-ADDRESS=Kervelstraat 185-A\, Kromme
 nie\, 1562 AJ\, Nederland;X-APPLE-RADIUS=100;X-TITLE=Buurtcentrum De Pelik
 aan:geo:0,0
END:VEVENT
BEGIN:VTIMEZONE
TZID:Europe/Amsterdam
X-LIC-LOCATION:Europe/Amsterdam
BEGIN:STANDARD
DTSTART:20251026T020000
TZOFFSETFROM:+0200
TZOFFSETTO:+0100
TZNAME:CET
END:STANDARD
END:VTIMEZONE
END:VCALENDAR