BEGIN:VCALENDAR
VERSION:2.0
PRODID:-//wp-events-plugin.com//7.2.3.1//EN
TZID:Europe/Amsterdam
X-WR-TIMEZONE:Europe/Amsterdam
BEGIN:VEVENT
UID:36671@agenda-zaanstreek.nl
DTSTART;TZID=Europe/Amsterdam:20250109T190000
DTEND;TZID=Europe/Amsterdam:20250109T213000
DTSTAMP:20250108T200417Z
URL:https://agenda-zaanstreek.nl/events/nieuwjaarsreceptie-de-zaanse-regen
 boog/
SUMMARY:Nieuwjaarsreceptie De Zaanse Regenboog
DESCRIPTION:\n&nbsp\;\n\n\n\n\n\n&nbsp\;\n&nbsp\;\n\n\n\n\n&nbsp\;\n\n\n\nN
 ieuwjaarsreceptie bij PLAY room\n\n\n\n\nNieuwjaarsreceptie voor vrijwilli
 gers\, bezoekers en bevriende organisaties.\n\n\n\n\n
CATEGORIES:Sociaal | LHBTQI-gemeenschap
LOCATION:PLAY Room\, Westzijde 99\, Zaandam\, 1506 GA\, Nederland
X-APPLE-STRUCTURED-LOCATION;VALUE=URI;X-ADDRESS=Westzijde 99\, Zaandam\, 15
 06 GA\, Nederland;X-APPLE-RADIUS=100;X-TITLE=PLAY Room:geo:0,0
END:VEVENT
BEGIN:VTIMEZONE
TZID:Europe/Amsterdam
X-LIC-LOCATION:Europe/Amsterdam
BEGIN:STANDARD
DTSTART:20241027T020000
TZOFFSETFROM:+0200
TZOFFSETTO:+0100
TZNAME:CET
END:STANDARD
END:VTIMEZONE
END:VCALENDAR