BEGIN:VCALENDAR
VERSION:2.0
PRODID:-//wp-events-plugin.com//7.2.3.1//EN
TZID:Europe/Amsterdam
X-WR-TIMEZONE:Europe/Amsterdam
BEGIN:VEVENT
UID:36259@agenda-zaanstreek.nl
DTSTART;TZID=Europe/Amsterdam:20250119T140000
DTEND;TZID=Europe/Amsterdam:20250119T180000
DTSTAMP:20241210T203223Z
URL:https://agenda-zaanstreek.nl/events/nieuwjaarsconcert-kapiteinskoor/
SUMMARY:Nieuwjaarsconcert Kapiteinskoor
DESCRIPTION:Het traditionele moment om elkaar het allerbeste wensen voor he
 t komende jaar. Muzikaal omlijst door natuurlijk het Kapiteinskoor. Ook di
 t jaar is er een gast optreden\, hoe de berichten in de gaten.
CATEGORIES:Horeca,Muziek
LOCATION:Het Tolhuys\, Westzijde 216\, Zaandam\, 1506 GG\, Nederland
X-APPLE-STRUCTURED-LOCATION;VALUE=URI;X-ADDRESS=Westzijde 216\, Zaandam\, 1
 506 GG\, Nederland;X-APPLE-RADIUS=100;X-TITLE=Het Tolhuys:geo:0,0
END:VEVENT
BEGIN:VTIMEZONE
TZID:Europe/Amsterdam
X-LIC-LOCATION:Europe/Amsterdam
BEGIN:STANDARD
DTSTART:20241027T020000
TZOFFSETFROM:+0200
TZOFFSETTO:+0100
TZNAME:CET
END:STANDARD
END:VTIMEZONE
END:VCALENDAR