BEGIN:VCALENDAR
VERSION:2.0
PRODID:-//wp-events-plugin.com//7.2.3.1//EN
TZID:Europe/Amsterdam
X-WR-TIMEZONE:Europe/Amsterdam
BEGIN:VEVENT
UID:36670@agenda-zaanstreek.nl
DTSTART;TZID=Europe/Amsterdam:20250109T180000
DTEND;TZID=Europe/Amsterdam:20250109T180000
DTSTAMP:20250108T200015Z
URL:https://agenda-zaanstreek.nl/events/nieuwjaarsbijeenkomst-de-corner-en
 -ovzz/
SUMMARY:Nieuwjaarsbijeenkomst De Corner en OVZZ
DESCRIPTION:De nieuwjaarsbijeenkomst: kom proosten op een jaar vol nieuwe v
 erbindingen en kansen!\nOp donderdag 9 januari 2025 heffen we het glas op 
 het nieuwe jaar en dat doen we graag samen met jou! Tijdens onze nieuwjaar
 sbijeenkomst\, die wij organiseren in samenwerking met OVZZ\, ben je vanaf
  18.00 uur welkom bij het sfeervolle Grand Café Atlantic in Krommenie.\n\
 nOnder het genot van een drankje en een smakelijk walking dinner (inbegrep
 en bij de ticketprijs)\, kijken we terug op 2024\, maar vooral ook vooruit
  naar 2025. Waar liggen jouw kansen\, uitdagingen en wensen\, en hoe kunne
 n we elkaar hierin (verder) helpen?\n\nParkeren\n\nIn de directe omgeving 
 is (beperkt) parkeergelegenheid te vinden. Dit is gratis\, deels met parke
 erschijf tot 21.00 uur max. 2 uur. Op nog geen 400 meter afstand ligt echt
 er een groot parkeerterrein (Durghorstplantsoen\, bij DekaMarkt) waar je v
 rij kunt parkeren. Tegen betaling kun je tot 21.00 uur ook terecht in de p
 arkeergarage die hier ligt.\n\n&nbsp\;
CATEGORIES:Commercieel
LOCATION:Grand Café Atlantic\, Noorderhoofdstraat 84\, Krommenie\, 1566 AP
 \, Nederland
X-APPLE-STRUCTURED-LOCATION;VALUE=URI;X-ADDRESS=Noorderhoofdstraat 84\, Kro
 mmenie\, 1566 AP\, Nederland;X-APPLE-RADIUS=100;X-TITLE=Grand Café Atlant
 ic:geo:0,0
END:VEVENT
BEGIN:VTIMEZONE
TZID:Europe/Amsterdam
X-LIC-LOCATION:Europe/Amsterdam
BEGIN:STANDARD
DTSTART:20241027T020000
TZOFFSETFROM:+0200
TZOFFSETTO:+0100
TZNAME:CET
END:STANDARD
END:VTIMEZONE
END:VCALENDAR