BEGIN:VCALENDAR
VERSION:2.0
PRODID:-//wp-events-plugin.com//7.2.3.1//EN
TZID:Europe/Amsterdam
X-WR-TIMEZONE:Europe/Amsterdam
BEGIN:VEVENT
UID:35816@agenda-zaanstreek.nl
DTSTART;TZID=Europe/Amsterdam:20250104T200000
DTEND;TZID=Europe/Amsterdam:20250104T230000
DTSTAMP:20241114T111715Z
URL:https://agenda-zaanstreek.nl/events/nieuwjaarsbal-stijldansen/
SUMMARY:Nieuwjaarsbal Stijldansen
DESCRIPTION:\n\n\n&nbsp\;\n\n\n\n\nKom proosten op het nieuwe jaar met ons!
  Lekker even stijldansen\, of gezellig kletsen met iedereen. Je bent van h
 arte welkom!\n\n&nbsp\;\n\n\n\n
CATEGORIES:Dans
LOCATION:Dans Hotspot Van Kooten\, Westzijde 71\, Zaandam\, 1506 EC\, Neder
 land
X-APPLE-STRUCTURED-LOCATION;VALUE=URI;X-ADDRESS=Westzijde 71\, Zaandam\, 15
 06 EC\, Nederland;X-APPLE-RADIUS=100;X-TITLE=Dans Hotspot Van Kooten:geo:0
 ,0
END:VEVENT
BEGIN:VTIMEZONE
TZID:Europe/Amsterdam
X-LIC-LOCATION:Europe/Amsterdam
BEGIN:STANDARD
DTSTART:20241027T020000
TZOFFSETFROM:+0200
TZOFFSETTO:+0100
TZNAME:CET
END:STANDARD
END:VTIMEZONE
END:VCALENDAR