BEGIN:VCALENDAR
VERSION:2.0
PRODID:-//wp-events-plugin.com//7.2.3.1//EN
TZID:Europe/Amsterdam
X-WR-TIMEZONE:Europe/Amsterdam
BEGIN:VEVENT
UID:37327@agenda-zaanstreek.nl
DTSTART;TZID=Europe/Amsterdam:20250223T100000
DTEND;TZID=Europe/Amsterdam:20250223T140000
DTSTAMP:20250213T102821Z
URL:https://agenda-zaanstreek.nl/events/nieuwe-vis-seizoen-begint-met-bezo
 ek-aan-hvz-hengelsportbeurs/
SUMMARY:Nieuwe vis-seizoen begint met bezoek aan HVZ Hengelsportbeurs
DESCRIPTION:De sloten zijn af en toe bedekt met een dun laagje ijs en lang 
 aan de waterkant stilzitten is in deze koude tijden geen optie. Maar we ga
 an onmiskenbaar richting nieuwe visseizoen! Een goed begin is een bezoek a
 an de jaarlijkse hengelsportbeurs die Hengelsport Vereniging Zaanstreek (H
 VZ) op zondag 23 februari houdt. De grootste hengelsportartikelen ruilbeur
 s van Noord-Holland vindt plaats in sporthal Wormer aan de Spatterstraat 2
 1. "We verwachten\nzelfs dat het drukker wordt dan vorig jaar"\, stelt voo
 rzitter Wim de Vries.\n\nDe beurs is zondag 23 februari van 10.00 tot 14.0
 0 uur. De entree is gratis\, ook voor niet-HVZ-leden.\n\nBron: Digitale ed
 itie Zaanstad 13 februari 2025
CATEGORIES:Markt Braderie,Recreatiesport
LOCATION:Sporthal Wormer\, Spatterstraat 21\, Wormer\, 1531 DA\, Nederland
X-APPLE-STRUCTURED-LOCATION;VALUE=URI;X-ADDRESS=Spatterstraat 21\, Wormer\,
  1531 DA\, Nederland;X-APPLE-RADIUS=100;X-TITLE=Sporthal Wormer:geo:0,0
END:VEVENT
BEGIN:VTIMEZONE
TZID:Europe/Amsterdam
X-LIC-LOCATION:Europe/Amsterdam
BEGIN:STANDARD
DTSTART:20241027T020000
TZOFFSETFROM:+0200
TZOFFSETTO:+0100
TZNAME:CET
END:STANDARD
END:VTIMEZONE
END:VCALENDAR