BEGIN:VCALENDAR
VERSION:2.0
PRODID:-//wp-events-plugin.com//7.2.3.1//EN
TZID:Europe/Amsterdam
X-WR-TIMEZONE:Europe/Amsterdam
BEGIN:VEVENT
UID:35950@agenda-zaanstreek.nl
DTSTART;TZID=Europe/Amsterdam:20241127T140000
DTEND;TZID=Europe/Amsterdam:20241127T160000
DTSTAMP:20241122T201654Z
URL:https://agenda-zaanstreek.nl/events/nieuwe-ontmoetingsplek-voor-zaandi
 jkers-koffie-keuvelen/
SUMMARY:Nieuwe ontmoetingsplek voor Zaandijkers: Koffie & Keuvelen
DESCRIPTION:In Rooswijk (Zaandijk) wordt gewerkt een aan mooi initiatief.&n
 bsp\;Activiteitenbegeleidster bij Odion\, Annemieke Spreeuw en buurtcirkel
 coach Erna Waal\, hebben een ontmoetingsplek voor buurtbewoners opgezet. I
 edere woensdagmiddag van 14.00 tot 16.00 uur zijn buurtbewoners welkom voo
 r een praatje\, spelletje en kopje koffie.\n\nVanuit het sociaal wijkteam 
 blijkt dat er behoefte is aan een laagdrempelige ontmoetingsplek. Die ontb
 reekt nog in Zaandijk. Annemieke en Erna besloten een initiatief te starte
 n waar onder andere ouderen\, moeders met jonge kinderen en mensen die de 
 Nederlandse taal niet machtig zijn samen kunnen komen.\n\nLees verder bij 
 De Orkaan: https://www.deorkaan.nl/nieuwe-ontmoetingsplek-voor-zaandijkers
 /
CATEGORIES:Sociaal
LOCATION:Odion Rooswijk\, Count Basiestraat 1 \, Zaandijk\, 1544 LK\, Neder
 land
X-APPLE-STRUCTURED-LOCATION;VALUE=URI;X-ADDRESS=Count Basiestraat 1 \, Zaan
 dijk\, 1544 LK\, Nederland;X-APPLE-RADIUS=100;X-TITLE=Odion Rooswijk:geo:0
 ,0
END:VEVENT
BEGIN:VTIMEZONE
TZID:Europe/Amsterdam
X-LIC-LOCATION:Europe/Amsterdam
BEGIN:STANDARD
DTSTART:20241027T020000
TZOFFSETFROM:+0200
TZOFFSETTO:+0100
TZNAME:CET
END:STANDARD
END:VTIMEZONE
END:VCALENDAR