BEGIN:VCALENDAR
VERSION:2.0
PRODID:-//wp-events-plugin.com//7.2.3.1//EN
TZID:Europe/Amsterdam
X-WR-TIMEZONE:Europe/Amsterdam
BEGIN:VEVENT
UID:38094@agenda-zaanstreek.nl
DTSTART;TZID=Europe/Amsterdam:20250412T193000
DTEND;TZID=Europe/Amsterdam:20250412T193000
DTSTAMP:20250403T090521Z
URL:https://agenda-zaanstreek.nl/events/nieuwe-huys-concert-vespucci-kwart
 et/
SUMMARY:Nieuwe Huys Concert - Vespucci Kwartet
DESCRIPTION:\n\nOp zaterdag 12 april om 19.30 uur speelt het Vespucci Kwart
 et voor het eerst in de serie Nieuwe Huys Concerten in Zaandam. Op het pro
 gramma staan het 11de strijkkwartet van Beethoven (“Serioso”)\, Entr
 ’acte van Caroline Shaw en het enige Strijkkwartet van Claude Debussy.&n
 bsp\;\n\nHet Vespucci Kwartet wordt gevormd door Lisanne Soeterbroek en Ma
 rieke Kosters (viool)\, Stephanie Steiner (alt) en Douw Fonda (cello).&nbs
 p\;\n\nHet concert is in de Vermaning\, Westzijde 80 in Zaandam. In plaats
  van kaarten te kopen geeft elke toehoorder een donatie. Wel graag reserve
 ren!&nbsp\;\n\nMeer info en reserveringsformulier op nieuwehuysconcerten.n
 l\n\n&nbsp\;
CATEGORIES:Klassiek,Muziek
LOCATION:Doopsgezinde Vermaning Zaandam\, Westzijde 80\, Zaandam\, 1506 EG\
 , Nederland
X-APPLE-STRUCTURED-LOCATION;VALUE=URI;X-ADDRESS=Westzijde 80\, Zaandam\, 15
 06 EG\, Nederland;X-APPLE-RADIUS=100;X-TITLE=Doopsgezinde Vermaning Zaanda
 m:geo:0,0
END:VEVENT
BEGIN:VTIMEZONE
TZID:Europe/Amsterdam
X-LIC-LOCATION:Europe/Amsterdam
BEGIN:DAYLIGHT
DTSTART:20250330T030000
TZOFFSETFROM:+0100
TZOFFSETTO:+0200
TZNAME:CEST
END:DAYLIGHT
END:VTIMEZONE
END:VCALENDAR