BEGIN:VCALENDAR
VERSION:2.0
PRODID:-//wp-events-plugin.com//7.2.3.1//EN
TZID:Europe/Amsterdam
X-WR-TIMEZONE:Europe/Amsterdam
BEGIN:VEVENT
UID:37647@agenda-zaanstreek.nl
DTSTART;TZID=Europe/Amsterdam:20250316T193000
DTEND;TZID=Europe/Amsterdam:20250316T193000
DTSTAMP:20250306T162914Z
URL:https://agenda-zaanstreek.nl/events/nieuwe-huys-concert-il-faro-kwarte
 t/
SUMMARY:Nieuwe Huys Concert - IL FARO-kwartet
DESCRIPTION:Il Faro kwartet met Alida Schat en Heleen Hulst viool\, Martina
  Forni altviool\, Albert Brüggen cello. Muziek van Haydn\, Mendelssohn en
  Hugo Wolff\, op periode-instrumenten.\nVermaning\, aanvang 19.30 uur.&nbs
 p\;reserveer
CATEGORIES:Klassiek,Muziek
LOCATION:Doopsgezinde Vermaning Zaandam\, Westzijde 80\, Zaandam\, 1506 EG\
 , Nederland
X-APPLE-STRUCTURED-LOCATION;VALUE=URI;X-ADDRESS=Westzijde 80\, Zaandam\, 15
 06 EG\, Nederland;X-APPLE-RADIUS=100;X-TITLE=Doopsgezinde Vermaning Zaanda
 m:geo:0,0
END:VEVENT
BEGIN:VTIMEZONE
TZID:Europe/Amsterdam
X-LIC-LOCATION:Europe/Amsterdam
BEGIN:STANDARD
DTSTART:20241027T020000
TZOFFSETFROM:+0200
TZOFFSETTO:+0100
TZNAME:CET
END:STANDARD
END:VTIMEZONE
END:VCALENDAR