BEGIN:VCALENDAR
VERSION:2.0
PRODID:-//wp-events-plugin.com//7.2.3.1//EN
TZID:Europe/Amsterdam
X-WR-TIMEZONE:Europe/Amsterdam
BEGIN:VEVENT
UID:37133@agenda-zaanstreek.nl
DTSTART;TZID=Europe/Amsterdam:20250215T193000
DTEND;TZID=Europe/Amsterdam:20250215T193000
DTSTAMP:20250205T100457Z
URL:https://agenda-zaanstreek.nl/events/nieuwe-huys-concert-huygens-de-ver
 liefde-diplomaat/
SUMMARY:Nieuwe Huys Concert - Huygens\, de verliefde diplomaat
DESCRIPTION:Op 15 februari a.s. zijn Mike Fentross (theorbe) en Lette Vos (
 sopraan) te gast in de Vermaning in Zaandam. Zij voeren muziek uit van onz
 e multigetalenteerde landgenoot Constantijn Huygens.\n\nHuygens\, de verli
 efde diplomaat\n\nMuziek van Constantijn Huygens Constantijn Huygens (1596
 -1687)\n\nLette Vos\, sopraan\n\nMike Fentross\, theorbe\n\nConstantijn Hu
 ygens\, secretaris van drie Prinsen van Oranje\, is één van Hollands mee
 st belangrijke dichters en musici. Toen hij overleed op 90 jarige leeftijd
  had hij duizenden gedichten geschreven\, bezat hij meer dan 50 instrument
 en en had hij meer dan 800 muziekstukken gecomponeerd. Een groot deel van 
 zijn gedichten en composities gaan over de liefde en uit zijn brieven kunn
 en we opmaken dat hij ervaringsdeskundige was op dit onderwerp...\n\nBijna
  al zijn composities zijn verloren gegaan maar gelukkig is er een bundel m
 et prachtige liederen op Franse\, Italiaanse en Latijnse tekst bewaard geb
 leven: de “Pathodia Sacra et Profana”. De liederen worden op deze avon
 d begeleid door de theorbe\, Huygens’ favoriete instrument.\n\nNaast muz
 iek van Huygens hoort u werken van componisten uit zijn cirkel. Onder ande
 re Michel Lambert\, Giovanni Kapsberger en Claudio Monteverdi waar hij ove
 r schreef:&nbsp\;\n\n'De 24ste juni\, dat was het feest van de Heilige Joh
 annes de Doper\, bracht men mij naar de vespers in de kerk San Giovanni e 
 Luzia\, waar ik de meest volmaakte muziek hoorde die ik ooit van mijn leve
 n te horen denk te krijgen. De beroemde Claudio Monteverdi\, kapelmeester 
 van San Marco\, die de muziek had gecomponeerd\, dirigeerde deze keer ook\
 , met vier theorbes\, twee cornetten\, twee fagotten\, twee violen\, een b
 asviool van monsterachtige grootte\, de orgels en andere instrumenten\, di
 e alle even goed werden bespeeld\, en tien of twaalf stemmen\, die me van 
 verrukking buiten mezelf brachten.'\n\n&nbsp\;\n\nAdres: Westzijde 80 Zaan
 dam. Aanvang 19.30. Entree €5 (jongeren) - €20.&nbsp\;\n\nMeer informa
 tie en reserveringen: www.nieuwehuysconcerten.nl\n\n&nbsp\;
CATEGORIES:Klassiek,Muziek
LOCATION:Doopsgezinde Vermaning Zaandam\, Westzijde 80\, Zaandam\, 1506 EG\
 , Nederland
X-APPLE-STRUCTURED-LOCATION;VALUE=URI;X-ADDRESS=Westzijde 80\, Zaandam\, 15
 06 EG\, Nederland;X-APPLE-RADIUS=100;X-TITLE=Doopsgezinde Vermaning Zaanda
 m:geo:0,0
END:VEVENT
BEGIN:VTIMEZONE
TZID:Europe/Amsterdam
X-LIC-LOCATION:Europe/Amsterdam
BEGIN:STANDARD
DTSTART:20241027T020000
TZOFFSETFROM:+0200
TZOFFSETTO:+0100
TZNAME:CET
END:STANDARD
END:VTIMEZONE
END:VCALENDAR