BEGIN:VCALENDAR
VERSION:2.0
PRODID:-//wp-events-plugin.com//7.2.3.1//EN
TZID:Europe/Amsterdam
X-WR-TIMEZONE:Europe/Amsterdam
BEGIN:VEVENT
UID:36496@agenda-zaanstreek.nl
DTSTART;TZID=Europe/Amsterdam:20250228T200000
DTEND;TZID=Europe/Amsterdam:20250228T200000
DTSTAMP:20241219T104257Z
URL:https://agenda-zaanstreek.nl/events/nienke-plas-medeplichtig/
SUMMARY:Nienke Plas - Medeplichtig
DESCRIPTION:\n\n\nHoe crimineel is een opinie? En wanneer ben je een bedrei
 ging voor de maatschappij? Nienke Plas durft eerlijk toe te geven dat ze v
 aak genoeg zelf schuldig is aan een collectieve f#ck up. Hier valt trouwen
 s het vergeten van de ouderbijdrage voor de buitenschoolse activiteiten ni
 et onder. Je mond houden mag niet meer. Vanaf nu worden haar gedachtes ged
 eeld en het publiek is medeplichtig.\n\n\n\n\n\n\nNienke Plas heeft niet d
 e traditionele route bewandeld\, mocht die er zijn voor een comedian. Via 
 de achterdeur\, ook wel bekend als het world wide web\, trapte zij een kie
 rtje open richting de theaters. Ze heeft ondertussen twee succesvolle tour
 s achter de rug.&nbsp\;Medeplichtig&nbsp\;wordt haar derde avondvullend pr
 ogramma.\n\n\nLees meer\n\n\n\n\nPrijzen\n\n\n\n\n\nExtra informatie:\n\n\
 n\n\n\nvr28 feb 202520.00Albert HeijnzaalBestel\n\n
CATEGORIES:Cabaret,Theater
LOCATION:Zaantheater\, Nicolaasstraat 3\, Zaandam\, 1506 BB\, Nederland
X-APPLE-STRUCTURED-LOCATION;VALUE=URI;X-ADDRESS=Nicolaasstraat 3\, Zaandam\
 , 1506 BB\, Nederland;X-APPLE-RADIUS=100;X-TITLE=Zaantheater:geo:0,0
END:VEVENT
BEGIN:VTIMEZONE
TZID:Europe/Amsterdam
X-LIC-LOCATION:Europe/Amsterdam
BEGIN:STANDARD
DTSTART:20241027T020000
TZOFFSETFROM:+0200
TZOFFSETTO:+0100
TZNAME:CET
END:STANDARD
END:VTIMEZONE
END:VCALENDAR