BEGIN:VCALENDAR
VERSION:2.0
PRODID:-//wp-events-plugin.com//7.2.3.1//EN
TZID:Europe/Amsterdam
X-WR-TIMEZONE:Europe/Amsterdam
BEGIN:VEVENT
UID:36489@agenda-zaanstreek.nl
DTSTART;TZID=Europe/Amsterdam:20250221T200000
DTEND;TZID=Europe/Amsterdam:20250221T200000
DTSTAMP:20241219T103308Z
URL:https://agenda-zaanstreek.nl/events/nielson-paarse-nachten/
SUMMARY:Nielson - Paarse Nachten
DESCRIPTION:\n\nEen van Nederlands populairste zangers speelde 2 jaar geled
 en voor het eerst in theaters. Nielson besloot zijn 10-jarig jubileum te v
 ieren op het podium waar hij nog niet eerder in zijn carrière had gestaan
 . En hij was meteen verkocht! Het podium en de bijzondere dynamiek voelde 
 voor zowel hem als zijn publiek vertrouwd. Zijn muzikale en persoonlijke v
 oorstelling ontving veel lovende kritieken. Deze ervaring heeft hem geïns
 pireerd om dieper te graven en verder te gaan in zijn artistieke reis. En 
 nu is hij terug voor een vervolg.\n\n\n\n\n\n\nBereid je voor op een heerl
 ijke avond vol muzikale hoogtepunten en verhalen die raken. Verwacht beken
 de hits\, een geweldige live band\, prachtige lichtshow\, lachende gezicht
 en en oprechte emotie.\n\n\n\n
CATEGORIES:Muziek
LOCATION:Zaantheater\, Nicolaasstraat 3\, Zaandam\, 1506 BB\, Nederland
X-APPLE-STRUCTURED-LOCATION;VALUE=URI;X-ADDRESS=Nicolaasstraat 3\, Zaandam\
 , 1506 BB\, Nederland;X-APPLE-RADIUS=100;X-TITLE=Zaantheater:geo:0,0
END:VEVENT
BEGIN:VTIMEZONE
TZID:Europe/Amsterdam
X-LIC-LOCATION:Europe/Amsterdam
BEGIN:STANDARD
DTSTART:20241027T020000
TZOFFSETFROM:+0200
TZOFFSETTO:+0100
TZNAME:CET
END:STANDARD
END:VTIMEZONE
END:VCALENDAR