BEGIN:VCALENDAR
VERSION:2.0
PRODID:-//wp-events-plugin.com//7.2.3.1//EN
TZID:Europe/Amsterdam
X-WR-TIMEZONE:Europe/Amsterdam
BEGIN:VEVENT
UID:33871@agenda-zaanstreek.nl
DTSTART;TZID=Europe/Amsterdam:20241123T200000
DTEND;TZID=Europe/Amsterdam:20241123T200000
DTSTAMP:20240718T092115Z
URL:https://agenda-zaanstreek.nl/events/nh-metalfest-sesspecial-edition/
SUMMARY:NH Metalfest Sesspecial Edition
DESCRIPTION:23NOVNH METALFEST SESPECIAL EDITIONPodium DE FLUX\, Hemkade 48\
 , 1506 PS Zaandam20:00TICKETS\n\n\n\n\n\n&nbsp\;\n\n\n\n\n\n\nVOORVERKOOP&
 nbsp\; € 17\,50\n\n\n\n\n\n\n\nDEURVERKOOP&nbsp\; € 20\,00\n\n\n\n\n\n
 \n\n\n\nDe nieuwste editie van de Noord-Hollandse hardsten der hardsten is
  een feit. Snoeiharde metalen uit de regio zullen je tijdens deze speciale
  editie nog harder laten bangen!\n\n\n\n\n\n
CATEGORIES:Muziek
LOCATION:Podium De Flux\, Hemkade 48\, Zaandam\, 1506 PS\, Nederland
X-APPLE-STRUCTURED-LOCATION;VALUE=URI;X-ADDRESS=Hemkade 48\, Zaandam\, 1506
  PS\, Nederland;X-APPLE-RADIUS=100;X-TITLE=Podium De Flux:geo:0,0
END:VEVENT
BEGIN:VTIMEZONE
TZID:Europe/Amsterdam
X-LIC-LOCATION:Europe/Amsterdam
BEGIN:STANDARD
DTSTART:20241027T020000
TZOFFSETFROM:+0200
TZOFFSETTO:+0100
TZNAME:CET
END:STANDARD
END:VTIMEZONE
END:VCALENDAR