BEGIN:VCALENDAR
VERSION:2.0
PRODID:-//wp-events-plugin.com//7.2.3.1//EN
TZID:Europe/Amsterdam
X-WR-TIMEZONE:Europe/Amsterdam
BEGIN:VEVENT
UID:40867@agenda-zaanstreek.nl
DTSTART;TZID=Europe/Amsterdam:20260109T170000
DTEND;TZID=Europe/Amsterdam:20260109T170000
DTSTAMP:20251211T100547Z
URL:https://agenda-zaanstreek.nl/events/netwerken-en-goede-doel-steunen-op
 -zaanse-nieuwjaarsbijeenkomst/
SUMMARY:Netwerken en goede doel steunen op Zaanse Nieuwjaarsbijeenkomst
DESCRIPTION:\nDe Zaanse Ondernemer Sociëteit De Corner houdt vrijdag 9 jan
 uari de jaarlijkse Zaanse Nieuwjaarsbijeenkomst. Ondernemers zijn vanaf 17
 .00 uur welkom bij Grand Café Atlantic\, Zuiderhoofdstraat 84\, voor een 
 terugblik op 2025 en vooruitblik op 2026.\n\n
CATEGORIES:Commercieel
LOCATION:Grand Café Atlantic\, Noorderhoofdstraat 84\, Krommenie\, 1566 AP
 \, Nederland
X-APPLE-STRUCTURED-LOCATION;VALUE=URI;X-ADDRESS=Noorderhoofdstraat 84\, Kro
 mmenie\, 1566 AP\, Nederland;X-APPLE-RADIUS=100;X-TITLE=Grand Café Atlant
 ic:geo:0,0
END:VEVENT
BEGIN:VTIMEZONE
TZID:Europe/Amsterdam
X-LIC-LOCATION:Europe/Amsterdam
BEGIN:STANDARD
DTSTART:20251026T020000
TZOFFSETFROM:+0200
TZOFFSETTO:+0100
TZNAME:CET
END:STANDARD
END:VTIMEZONE
END:VCALENDAR