BEGIN:VCALENDAR
VERSION:2.0
PRODID:-//wp-events-plugin.com//7.2.3.1//EN
TZID:Europe/Amsterdam
X-WR-TIMEZONE:Europe/Amsterdam
BEGIN:VEVENT
UID:39792@agenda-zaanstreek.nl
DTSTART;TZID=Europe/Amsterdam:20251108T203000
DTEND;TZID=Europe/Amsterdam:20251108T203000
DTSTAMP:20250730T100232Z
URL:https://agenda-zaanstreek.nl/events/nesim-el-ahmadi-je-verzint-het-nie
 t/
SUMMARY:Nesim El Ahmadi - Je verzint het niet
DESCRIPTION:\n\n\nComedian Nesim El Ahmadi gaat het theater in met zijn twe
 ede cabaretvoorstelling: ‘Je verzint het niet’!&nbsp\;\n\n\n\n\nIn dit
  vervolg op zijn eerdere cabaretvoorstelling\, ‘TaBoe!’\, praat Nesim 
 over zijn roots\, opvoeding\, relatie\, papa worden\, vreemde werkplekken 
 en nog veel meer.\n\n\n\n\n\n\n‘Ik heb vaak het gevoel dat ik dingen mee
 maak die niemand anders zou kunnen meemaken…tot ik begin te praten met h
 et publiek’\, vertelt Nesim.&nbsp\; En juist om dat gevoel aan te wakker
 en kun je als toeschouwer de nodige interactie verwachten. Of je nou voora
 an zit of helemaal achterin… ontkomen doet niemand.&nbsp\;\n\nNesim el A
 hmadi (1993) is voornamelijk bekend van zijn populaire stand-up crowd work
  videos\, het succesvolle YouTube kanaal Supergaande en zijn werk als host
  en presentator voor uiteenlopende televisie formats.\n\n\nLees meer\n\n\n
 \n\nPrijzen\n\n\n\n\n\nExtra informatie:\n\n\n\n\n\nza8 nov 202520.30Klein
 e ZaalBestel\n\n
CATEGORIES:Cabaret
LOCATION:Zaantheater\, Nicolaasstraat 3\, Zaandam\, 1506 BB\, Nederland
X-APPLE-STRUCTURED-LOCATION;VALUE=URI;X-ADDRESS=Nicolaasstraat 3\, Zaandam\
 , 1506 BB\, Nederland;X-APPLE-RADIUS=100;X-TITLE=Zaantheater:geo:0,0
END:VEVENT
BEGIN:VTIMEZONE
TZID:Europe/Amsterdam
X-LIC-LOCATION:Europe/Amsterdam
BEGIN:STANDARD
DTSTART:20251026T020000
TZOFFSETFROM:+0200
TZOFFSETTO:+0100
TZNAME:CET
END:STANDARD
END:VTIMEZONE
END:VCALENDAR