BEGIN:VCALENDAR
VERSION:2.0
PRODID:-//wp-events-plugin.com//7.2.3.1//EN
TZID:Europe/Amsterdam
X-WR-TIMEZONE:Europe/Amsterdam
BEGIN:VEVENT
UID:17588@agenda-zaanstreek.nl
DTSTART;TZID=Europe/Amsterdam:20211016T093000
DTEND;TZID=Europe/Amsterdam:20220402T093000
DTSTAMP:20210913T131619Z
URL:https://agenda-zaanstreek.nl/event-recurring/natuurwerkochtend-in-het-
 westzijderveld/
SUMMARY:Natuurwerkochtend in het Westzijderveld
DESCRIPTION:NATUURWERKOCHTENDEN&nbsp\; IN HET WESTZIJDERVELD\n\nSEIZOEN&nbs
 p\; 2021/2022\n\nALLE DATA ZIJN ONDER VOORBEHOUD VAN DE CORONAMAATREGELEN.
 \n\nzaterdag&nbsp\;&nbsp\;&nbsp\; 16 oktober 2021\n\nzondag&nbsp\;&nbsp\;&
 nbsp\;&nbsp\; 21 november 2021\n\nzaterdag&nbsp\;&nbsp\;&nbsp\;18 december
  2021\n\nzondag&nbsp\;&nbsp\;&nbsp\;&nbsp\;&nbsp\;16 januari 2022\n\nzater
 dag&nbsp\;&nbsp\; 19 februari 2022\n\nzondag&nbsp\;&nbsp\;&nbsp\;&nbsp\; 1
 3 maart 2022\n\nzaterdag&nbsp\;&nbsp\; &nbsp\; 2 april 2022&nbsp\;&nbsp\;&
 nbsp\; Skoon Skip (zwerfafval ruimen)\n\nDe werkochtenden worden georganis
 eerd in nauwe samenwerking met de Vogelwerkgroep en de werkzaamheden zulle
 n worden verricht onder leiding van Staatsbosbeheer.\n\nDe koffiepauze –
  met koffie of thee met een punt appeltaart met slagroom – wordt de ene 
 keer gehouden in molen Het Prinsenhof en de andere keer in molen De Jonge 
 Dirk. U kunt altijd tijdens deze pauze de molen bekijken.&nbsp\;\n\nS.v.p.
  opgeven vóór woensdagavond voorafgaand aan de werkdag bij de secretaris
 \, \n\ne-mail: obwsecretariaat@upcmail.nl\, zodat wij weten op hoeveel men
 sen wij kunnen rekenen.&nbsp\;\n\nVerzamelen tussen 9.15 en 9.30 uur bij m
 olen De Schoolmeester\; om ongeveer 13.30 uur zijn we weer terug. Warme kl
 eding en laarzen zijn aan te bevelen. Ook evt. regenkleding meenemen.\n\n&
 nbsp\;
CATEGORIES:Sociaal
LOCATION:Molen De Schoolmeester\, Guispad 3\, Westzaan\, 1551 SX\, Nederlan
 d
X-APPLE-STRUCTURED-LOCATION;VALUE=URI;X-ADDRESS=Guispad 3\, Westzaan\, 1551
  SX\, Nederland;X-APPLE-RADIUS=100;X-TITLE=Molen De Schoolmeester:geo:0,0
END:VEVENT
BEGIN:VTIMEZONE
TZID:Europe/Amsterdam
X-LIC-LOCATION:Europe/Amsterdam
BEGIN:DAYLIGHT
DTSTART:20210328T030000
TZOFFSETFROM:+0100
TZOFFSETTO:+0200
TZNAME:CEST
END:DAYLIGHT
BEGIN:STANDARD
DTSTART:20211031T020000
TZOFFSETFROM:+0200
TZOFFSETTO:+0100
TZNAME:CET
END:STANDARD
BEGIN:DAYLIGHT
DTSTART:20220327T030000
TZOFFSETFROM:+0100
TZOFFSETTO:+0200
TZNAME:CEST
END:DAYLIGHT
END:VTIMEZONE
END:VCALENDAR