BEGIN:VCALENDAR
VERSION:2.0
PRODID:-//wp-events-plugin.com//7.2.3.1//EN
TZID:Europe/Amsterdam
X-WR-TIMEZONE:Europe/Amsterdam
BEGIN:VEVENT
UID:36984@agenda-zaanstreek.nl
DTSTART;TZID=Europe/Amsterdam:20250207T200000
DTEND;TZID=Europe/Amsterdam:20250207T200000
DTSTAMP:20250123T102959Z
URL:https://agenda-zaanstreek.nl/events/nathan-de-wijze-toneelstuk-uit-179
 9/
SUMMARY:Nathan de Wijze - toneelstuk uit 1799
DESCRIPTION:-Door Kees Posthumus en Henk van Glabbeek - &nbsp\;\n\nNathan d
 e Wijze is van oorsprong een toneelstuk uit 1799 geschreven door Gotthold 
 Ephraim Lessing. Het verhaal speelt zich af in Jeruzalem ten tijde van de 
 kruistochten. Een krijgsgevangen tempelier redt een Joods meisje uit de vl
 ammen. Zij is de dochter van Nathan\, een wijze\, Joodse man. Als even lat
 er de sultan\, destijds de baas van de stad\, hem vraagt welk geloof Natha
 n uiteindelijk het meest overtuigend vindt\, zoekt hij naar een antwoord. 
 Hij vindt dat in de parabel van de drie ringen… Kees Posthumus en musicu
 s Henk van Glabbeek brengen hun eigen versie van Lessings toneelstuk. Een 
 verhaal over verbinding\, tolerantie en humaniteit met verrassende plotwen
 dingen en een knipoog naar onze eigen tijd. Met prachtige\, meditatieve mu
 ziek. Henk van Glabbeek bespeelt verschillende Oosterse instrumenten (o.a.
  de tar en de daf). De regie is in handen van Heleen Hennink.\n\nReservere
 n is verplicht\, mail naar zaanstreekpkn@gmail.com
CATEGORIES:Interkerkelijk,Toneel
LOCATION:Kogerkerk\, Kerkstraat 14\, Koog aan de Zaan\, 1541 HA\, Nederland
X-APPLE-STRUCTURED-LOCATION;VALUE=URI;X-ADDRESS=Kerkstraat 14\, Koog aan de
  Zaan\, 1541 HA\, Nederland;X-APPLE-RADIUS=100;X-TITLE=Kogerkerk:geo:0,0
END:VEVENT
BEGIN:VTIMEZONE
TZID:Europe/Amsterdam
X-LIC-LOCATION:Europe/Amsterdam
BEGIN:STANDARD
DTSTART:20241027T020000
TZOFFSETFROM:+0200
TZOFFSETTO:+0100
TZNAME:CET
END:STANDARD
END:VTIMEZONE
END:VCALENDAR