BEGIN:VCALENDAR
VERSION:2.0
PRODID:-//wp-events-plugin.com//7.2.3.1//EN
TZID:Europe/Amsterdam
X-WR-TIMEZONE:Europe/Amsterdam
BEGIN:VEVENT
UID:40211@agenda-zaanstreek.nl
DTSTART;TZID=Europe/Amsterdam:20251018T140000
DTEND;TZID=Europe/Amsterdam:20251018T140000
DTSTAMP:20250918T080807Z
URL:https://agenda-zaanstreek.nl/events/n-join-rockt-de-zuidervermaning/
SUMMARY:N-Join rockt de Zuidervermaning!
DESCRIPTION:\n\nLiefhebbers van rock\, blues en pop kunnen zondag 18 februa
 ri hun hart&nbsp\;ophalen in Westzaan. In de Zuidervermaning treedt dan N-
 Join op.&nbsp\;Deze coverband speelt voornamelijk nummers uit de jaren zes
 tig en&nbsp\;zeventig van artiesten als de Rolling Stones\, Neil Young\, P
 atti Smith\, J.J. Cale\,&nbsp\;Creedence Clearwater Revival\, Pink Floyd e
 n Cream.\n\nN-Join bestaat uit mensen die elkaar hebben leren kennen tijde
 ns workshops&nbsp\;van de bekende Zaanse popmuzikanten Jeroen Booy (ex-dru
 mmer The Scene)&nbsp\;en gitarist Ruben Hoeke. Inmiddels treden zij alweer
  zo’n vijf jaar samen op.&nbsp\;\n\nEen van de nummers die N-Join speelt
  is You can ’t always get what you want&nbsp\;van The Stones. Vorig jaar
  ging het dak eraf!\n\nZuidervermaning\, zondagmiddag 18 oktober vanaf 14.
 00 uur
CATEGORIES:Muziek
LOCATION:Zuidervermaning Westzaan\, Zuideinde 233\, Westzaan\, 1551 EG\, Ne
 derland
X-APPLE-STRUCTURED-LOCATION;VALUE=URI;X-ADDRESS=Zuideinde 233\, Westzaan\, 
 1551 EG\, Nederland;X-APPLE-RADIUS=100;X-TITLE=Zuidervermaning Westzaan:ge
 o:0,0
END:VEVENT
BEGIN:VTIMEZONE
TZID:Europe/Amsterdam
X-LIC-LOCATION:Europe/Amsterdam
BEGIN:DAYLIGHT
DTSTART:20250330T030000
TZOFFSETFROM:+0100
TZOFFSETTO:+0200
TZNAME:CEST
END:DAYLIGHT
END:VTIMEZONE
END:VCALENDAR