BEGIN:VCALENDAR
VERSION:2.0
PRODID:-//wp-events-plugin.com//7.2.3.1//EN
TZID:Europe/Amsterdam
X-WR-TIMEZONE:Europe/Amsterdam
BEGIN:VEVENT
UID:39619@agenda-zaanstreek.nl
DTSTART;TZID=Europe/Amsterdam:20250830T110000
DTEND;TZID=Europe/Amsterdam:20250830T110000
DTSTAMP:20250717T092557Z
URL:https://agenda-zaanstreek.nl/events/mythic-fest/
SUMMARY:Mythic Fest
DESCRIPTION:\n\n\n\n\nMet Plunder\, Scrum\, Hailander\, DJ duo RaRa\n\n\n\n
 \n\n 	Datum\n 	30 augustus 2025\n 	Voorverkoop\n 	€ 15\,00\n 	Deur\n 	
 € 25\,00\n\n\n 	Zaal open\n 	11:00\n 	Aanvang\n 	11:00\n\n\n
CATEGORIES:Muziek
LOCATION:Podium De Flux\, Hemkade 48\, Zaandam\, 1506 PS\, Nederland
X-APPLE-STRUCTURED-LOCATION;VALUE=URI;X-ADDRESS=Hemkade 48\, Zaandam\, 1506
  PS\, Nederland;X-APPLE-RADIUS=100;X-TITLE=Podium De Flux:geo:0,0
END:VEVENT
BEGIN:VTIMEZONE
TZID:Europe/Amsterdam
X-LIC-LOCATION:Europe/Amsterdam
BEGIN:DAYLIGHT
DTSTART:20250330T030000
TZOFFSETFROM:+0100
TZOFFSETTO:+0200
TZNAME:CEST
END:DAYLIGHT
END:VTIMEZONE
END:VCALENDAR