BEGIN:VCALENDAR
VERSION:2.0
PRODID:-//wp-events-plugin.com//7.2.3.1//EN
TZID:Europe/Amsterdam
X-WR-TIMEZONE:Europe/Amsterdam
BEGIN:VEVENT
UID:37541@agenda-zaanstreek.nl
DTSTART;TZID=Europe/Amsterdam:20250228T180000
DTEND;TZID=Europe/Amsterdam:20250228T180000
DTSTAMP:20250227T102954Z
URL:https://agenda-zaanstreek.nl/events/muzikale-avond-bij-restaurant-wolf
 send-madeleine-en-rodolfo-plus-eten/
SUMMARY:Muzikale avond bij Restaurant Wolfsend - Madeleine en Rodolfo PLUS 
 eten!
DESCRIPTION:Muzikale avond bij Restaurant Wolfsend in Zaandam. Eten\, drink
 en en fantastische muziek. Madeleine Vogels en haar begeleider Rodolfo Rav
 issant (accordeon en piano) zorgen voor een zeer aimabele Franse ambiance 
 met diverse Franse chansons. Je hoort liederen van Edith Piaf en Charles A
 znavour\, aangevuld met Nederlands- en Engelstalige songs.\nBel 075-750253
 3 of mail reserveren@wolfsend.nl om hierbij te zijn.\nBron: De Orkaan Fran
 se avond - Waarheen
CATEGORIES:Horeca,Muziek
LOCATION:Wolfsend Food en Drinks\, Lagedijk 13 c\, Zaandijk\, 1544 BA\, Ned
 erland
X-APPLE-STRUCTURED-LOCATION;VALUE=URI;X-ADDRESS=Lagedijk 13 c\, Zaandijk\, 
 1544 BA\, Nederland;X-APPLE-RADIUS=100;X-TITLE=Wolfsend Food en Drinks:geo
 :0,0
END:VEVENT
BEGIN:VTIMEZONE
TZID:Europe/Amsterdam
X-LIC-LOCATION:Europe/Amsterdam
BEGIN:STANDARD
DTSTART:20241027T020000
TZOFFSETFROM:+0200
TZOFFSETTO:+0100
TZNAME:CET
END:STANDARD
END:VTIMEZONE
END:VCALENDAR