BEGIN:VCALENDAR
VERSION:2.0
PRODID:-//wp-events-plugin.com//7.2.3.1//EN
TZID:Europe/Amsterdam
X-WR-TIMEZONE:Europe/Amsterdam
BEGIN:VEVENT
UID:37444@agenda-zaanstreek.nl
DTSTART;TZID=Europe/Amsterdam:20250223T140000
DTEND;TZID=Europe/Amsterdam:20250223T140000
DTSTAMP:20250220T112039Z
URL:https://agenda-zaanstreek.nl/events/muziekmiddag-in-de-westertil-met-r
 on-moed-en-vrienden/
SUMMARY:Muziekmiddag in De Westertil met Ron Moed en vrienden
DESCRIPTION:Op zondag 23 februari staat er een sfeervolle muziekmiddag op h
 et programma. Dit keer met een\noptreden van Ron Moed en vrienden. Tijdens
  de vorige editie in januari met Ton Vos en Jan Lucas bracht\nRon spontaan
  een muzikaal bezoek en zong een aantal nummers mee. Dit keer is Ron de ho
 ofdact en\nneemt hij zelf een aantal muzikale vrienden mee. Zijn repertoir
 e is breed: van Rock &amp\; Roll tot country\,\n\nRon Moed nodigt het publ
 iek uit om vooraf verzoeknummers door te geven. Heb je een favoriete song 
 die\nje graag live wilt horen? Stuur je verzoek in via e-mail naar els.boh
 m@scwo.nl of lever een briefje in bij De\nWestertil of De Omslag. De eerst
 e verzoekjes zijn al binnen!\nKom langs en zing mee\nDe deuren van De West
 ertil (Kemphaanstraat 1A\, Wormer) openen om 14.00 uur. De entree is grati
 s en er\nzijn hapjes en drankjes verkrijgbaar.
CATEGORIES:Muziek,Sociaal
LOCATION:De Westertil\, Kemphaanstraat 1 A\, Wormer\, 1531 VA\, Nederland
X-APPLE-STRUCTURED-LOCATION;VALUE=URI;X-ADDRESS=Kemphaanstraat 1 A\, Wormer
 \, 1531 VA\, Nederland;X-APPLE-RADIUS=100;X-TITLE=De Westertil:geo:0,0
END:VEVENT
BEGIN:VTIMEZONE
TZID:Europe/Amsterdam
X-LIC-LOCATION:Europe/Amsterdam
BEGIN:STANDARD
DTSTART:20241027T020000
TZOFFSETFROM:+0200
TZOFFSETTO:+0100
TZNAME:CET
END:STANDARD
END:VTIMEZONE
END:VCALENDAR