BEGIN:VCALENDAR
VERSION:2.0
PRODID:-//wp-events-plugin.com//7.2.3.1//EN
TZID:Europe/Amsterdam
X-WR-TIMEZONE:Europe/Amsterdam
BEGIN:VEVENT
UID:34410@agenda-zaanstreek.nl
DTSTART;TZID=Europe/Amsterdam:20250413T140000
DTEND;TZID=Europe/Amsterdam:20250413T140000
DTSTAMP:20240822T094359Z
URL:https://agenda-zaanstreek.nl/events/musica-extrema-de-mattheus-passie/
SUMMARY:Musica Extrema – de Mattheus Passie
DESCRIPTION:\n\n\n\n\n\n\n\n\n\n\n\n\n\n\n\n\n\n\n\n\n\n\n\n\nDe Mattheus P
 assie\nMusica Extrema brengt een van de grootste muziekwerken van de klass
 ieke muziek – de Mattheus Passie van Johann Sebastian Bach – in het Ne
 derlands in een vertaling van Jan Rot. Het stuk wordt uitgevoerd met Claud
 ia Patacca (sopraan)\, Joost van Tongeren (bariton) en acteur Peter Faber 
 als verteller. Het is een prachtige\, unieke uitvoering in kleine bezettin
 g\, waarin klassieke muziek en Latijns- Amerikaanse muziek elkaar ontmoete
 n.\n\nClaudia Patacca\nDe veelzijdige sopraan Claudia Patacca heeft haar s
 poren verdiend op de diverse opera- en concertpodia in binnen- en buitenla
 nd. Claudia is hoofdvakdocent klassieke zang aan het ArtEZ Conservatorium 
 in Zwolle.\n\nJoost van Tongeren\nDe bariton Joost van Tongeren werkte als
  solist en ensemble zanger meerdere seizoenen mee aan de verkorte versie v
 an Bachs Matthaüs Passion\, verteld door Edwin Rutten.\n\nMusica Extrema\
 nDe muziek wordt verzorgd door het orkest Musica Extrema\, dat op praktisc
 h alle grote- en kleine concertpodia van Nederland heeft gestaan.\n\nTanya
  Schaap – viool en artistieke leiding\nBen van den Dungen – saxofoons\
 nWilco Oomkes – accordeon\nMihan Hong – piano\nMarijn van de Ven – c
 ontrabas\n\nClaudia Patacca: sopraan\nJoost van Tongeren: bariton\nPeter F
 aber: verteller\n\nDit is een zitconcert\nTickets: € 24 (+ € 1 reserve
 ringskosten)\nAan de deur: € 25\,00\n\n\n\n\n\n\n\n\n\n\n\n\n\n&nbsp\;\n
 \n\n\n\n\n\n\n\n\nKoop tickets\n\n\n\n\n\n\n\n\n\n\n\n\n\n\n\n\n\n\n\n\n\n
 \n\n\n\n\n\n\n\n\n&nbsp\;\n\n\n\n\n\n\n\n\n
CATEGORIES:Klassiek,Muziek
LOCATION:Cultureel Centrum Bullekerk (Westzijderkerk)\, Westzijde 75\, Zaan
 dam\, 1506 ED\, Nederland
X-APPLE-STRUCTURED-LOCATION;VALUE=URI;X-ADDRESS=Westzijde 75\, Zaandam\, 15
 06 ED\, Nederland;X-APPLE-RADIUS=100;X-TITLE=Cultureel Centrum Bullekerk (
 Westzijderkerk):geo:0,0
END:VEVENT
BEGIN:VTIMEZONE
TZID:Europe/Amsterdam
X-LIC-LOCATION:Europe/Amsterdam
BEGIN:DAYLIGHT
DTSTART:20250330T030000
TZOFFSETFROM:+0100
TZOFFSETTO:+0200
TZNAME:CEST
END:DAYLIGHT
END:VTIMEZONE
END:VCALENDAR