BEGIN:VCALENDAR
VERSION:2.0
PRODID:-//wp-events-plugin.com//7.2.3.1//EN
TZID:Europe/Amsterdam
X-WR-TIMEZONE:Europe/Amsterdam
BEGIN:VEVENT
UID:37343@agenda-zaanstreek.nl
DTSTART;TZID=Europe/Amsterdam:20260207T200000
DTEND;TZID=Europe/Amsterdam:20260207T200000
DTSTAMP:20250213T130439Z
URL:https://agenda-zaanstreek.nl/events/mr-jones-just-in-case-from-here-to
 -las-vegas/
SUMMARY:Mr. Jones & Just In Case – From Here To Las Vegas
DESCRIPTION:\n\n\n\n\n\n\n\n\n\n\n\n\n\n\n\n\n\n\n\n\n\n\n\n\nMet hun deeln
 ame aan de tv-hit The Tribute Battle of the Bands blazen Mr. Jones &amp\; 
 Just In Case het legendarische repertoire van Sir Tom Jones letterlijk nie
 uw leven in. Wekelijks veroveren ze de harten van miljoenen kijkers\, die 
 keer op keer onder de indruk zijn van zowel hun aanstekelijke live perform
 ances als de muzikale gelijkenis met het origineel. Ondersteund door het s
 tevige fundament van de ritmesectie\, de messcherpe accenten van de MJ Hor
 ns en de ijzersterke vocalen van The Jonettes\, staat de show als een huis
 .\n\nIn hun theatershow ‘From Here to Las Vegas’ nemen Mr. Jones &amp\
 ; Just In Case het publiek mee terug naar de grandeur van het befaamde Fla
 mingo Hotel en het even beroemde als beruchte Caesar’s Palace – de toe
 nmalige hotspots waar Jones’ zegetocht begon\, hij zijn legendarische li
 ve albums opnam en zijn grootste successen vierde.\n\nMet 36 wereldwijde t
 op 40-hits en een evenredig aantal succesvolle studio- en live-albums is 
 ‘From Here to Las Vegas’ een avond vol herkenning\, waarbij de grootst
 e hits en mooiste ballads stuk voor stuk voorbij komen. Een tribute van ui
 tzonderlijk niveau\, met een hoge entertainmentwaarde.\n\nMet: Robby Griek
 spoor\, Laura Vlasblom\, Linda Caminita\, Mandy van Wijk\, Fred Colijn\, P
 atrick Drabe\, Sander Tournier\, Marc Schenk\, Nanouck Brassers\, Robin Bo
 gert\, Barry Oosterwaal\, Henk Brüggemann\, Maarten Elzinga\, Samone Maye
 r\n\nProducent:&nbsp\;Frank Halters Productions\nFoto’s: Lianne Dekker\n
 \nDit is een sta-concert.\n\nDeuren open: 19.00 uur\nAanvang: 20.00 uur\n\
 nTickets: € 36\,50 (+ € 2\,00 reserveringskosten)\nAan de deur: € 38
 \,50\n\n\n\n\n\n\n\n\n\n\n\nKoop tickets\n\n\n\n\n\n\n\n\n\n\n\n&nbsp\;\n\
 n\n\n\n\n\n\n\n\n\n\n\n
CATEGORIES:Muziek
LOCATION:Cultureel Centrum Bullekerk (Westzijderkerk)\, Westzijde 75\, Zaan
 dam\, 1506 ED\, Nederland
X-APPLE-STRUCTURED-LOCATION;VALUE=URI;X-ADDRESS=Westzijde 75\, Zaandam\, 15
 06 ED\, Nederland;X-APPLE-RADIUS=100;X-TITLE=Cultureel Centrum Bullekerk (
 Westzijderkerk):geo:0,0
END:VEVENT
BEGIN:VTIMEZONE
TZID:Europe/Amsterdam
X-LIC-LOCATION:Europe/Amsterdam
BEGIN:STANDARD
DTSTART:20251026T020000
TZOFFSETFROM:+0200
TZOFFSETTO:+0100
TZNAME:CET
END:STANDARD
END:VTIMEZONE
END:VCALENDAR