BEGIN:VCALENDAR
VERSION:2.0
PRODID:-//wp-events-plugin.com//7.2.3.1//EN
TZID:Europe/Amsterdam
X-WR-TIMEZONE:Europe/Amsterdam
BEGIN:VEVENT
UID:38204@agenda-zaanstreek.nl
DTSTART;TZID=Europe/Amsterdam:20250412T200000
DTEND;TZID=Europe/Amsterdam:20250412T200000
DTSTAMP:20250410T100809Z
URL:https://agenda-zaanstreek.nl/events/moods-pink-floyd-tribute-band/
SUMMARY:Moods Pink Floyd Tribute Band
DESCRIPTION:\n 	12 april Dorpshuis 1456 Neck&nbsp\;https://1456events.avayo
 .nl/transactions/new/95749-moods-pink-floyd-tribute&nbsp\;\n
CATEGORIES:Muziek
LOCATION:Dorpshuis Wijdewormer Dorpstheater TOWN 1456\, Wijdewormerplein 3\
 , Wijdewormer\, 1456 CB\, Nederland
X-APPLE-STRUCTURED-LOCATION;VALUE=URI;X-ADDRESS=Wijdewormerplein 3\, Wijdew
 ormer\, 1456 CB\, Nederland;X-APPLE-RADIUS=100;X-TITLE=Dorpshuis Wijdeworm
 er Dorpstheater TOWN 1456:geo:0,0
END:VEVENT
BEGIN:VTIMEZONE
TZID:Europe/Amsterdam
X-LIC-LOCATION:Europe/Amsterdam
BEGIN:DAYLIGHT
DTSTART:20250330T030000
TZOFFSETFROM:+0100
TZOFFSETTO:+0200
TZNAME:CEST
END:DAYLIGHT
END:VTIMEZONE
END:VCALENDAR