BEGIN:VCALENDAR
VERSION:2.0
PRODID:-//wp-events-plugin.com//7.2.3.1//EN
TZID:Europe/Amsterdam
X-WR-TIMEZONE:Europe/Amsterdam
BEGIN:VEVENT
UID:37272@agenda-zaanstreek.nl
DTSTART;TZID=Europe/Amsterdam:20250511T093000
DTEND;TZID=Europe/Amsterdam:20250511T093000
DTSTAMP:20250210T200156Z
URL:https://agenda-zaanstreek.nl/events/moederdag-workshop-raku-stoken/
SUMMARY:Moederdag Workshop Raku-Stoken
DESCRIPTION:Wil jij je moeder eens echt verrassen ?? Neem haar dan mee op e
 en heerlijke ochtend @rakuexperience. Jullie kiezen een vaasje uit\, leren
  de Japanse glazuurtechnieken en tijdens de stook is er een heerlijk taart
 je voor bij de koffie/thee. Na afloop neem je het raku-gestookte vaasje me
 e naar huis en mag je een raku-gestookt hart uitkiezen voor je moeder.\nDe
 ze workshop is vanaf 6 personen en duurt ca 2 uur.Neem een muts of pet mee
  om in de oven te kunnen kijken voor de spectaculaire techniek. Voor resul
 taten kijk op&nbsp\;www.rakuexperience.com\, of op faceboek&nbsp\;https://
 www.facebook.com/groups/385241736309022&nbsp\;. Hier kun je je ook aanmeld
 en of dat kan tevens via de app 0655727696\nprijs 75 euro per persoon.
CATEGORIES:Cursus Workshop
LOCATION:Raku Experience\, Klaverland 12\, Wormer\, Nederland
X-APPLE-STRUCTURED-LOCATION;VALUE=URI;X-ADDRESS=Klaverland 12\, Wormer\, Ne
 derland;X-APPLE-RADIUS=100;X-TITLE=Raku Experience:geo:0,0
END:VEVENT
BEGIN:VTIMEZONE
TZID:Europe/Amsterdam
X-LIC-LOCATION:Europe/Amsterdam
BEGIN:DAYLIGHT
DTSTART:20250330T030000
TZOFFSETFROM:+0100
TZOFFSETTO:+0200
TZNAME:CEST
END:DAYLIGHT
END:VTIMEZONE
END:VCALENDAR