BEGIN:VCALENDAR
VERSION:2.0
PRODID:-//wp-events-plugin.com//7.2.3.1//EN
TZID:Europe/Amsterdam
X-WR-TIMEZONE:Europe/Amsterdam
BEGIN:VEVENT
UID:37127@agenda-zaanstreek.nl
DTSTART;TZID=Europe/Amsterdam:20250215T093000
DTEND;TZID=Europe/Amsterdam:20250215T133000
DTSTAMP:20250201T201619Z
URL:https://agenda-zaanstreek.nl/events/mini-retraite-yoga-morning/
SUMMARY:Mini retraite - Yoga Morning
DESCRIPTION:Programma / Program\n9.30-10.30 just sitting meditation10.30-11
 .30 kriya\, vayus\, pranayama11.30-11.45 tea break in silence11.45-13.30 a
 sana practice\nThis morning\, we consciously take a bit more time to retre
 at ourselves from our busy city lives. We maintain silence during our prac
 tice and deepen the practice of meditation (‘just sitting’)\, vayus\, 
 kriyas\, pranayama\, and asana. There will be a 15-minute tea break (in si
 lence) after pranayama before we begin our asana practice. After this mini
  ‘yoga city retreat\,’ you’ll feel rejuvenated. Some prior yoga expe
 rience is desired. Registration is required.\nContribution: €45\,- payab
 le in advance. After payment your spot is reserved. Free cancellations til
 l 1 week before\, after that 100% of the paid contribution is due.
CATEGORIES:Spiritueel
LOCATION:Holoase\, Jacob Willemszoonstraat 8\, Zaandam\, Nederland
X-APPLE-STRUCTURED-LOCATION;VALUE=URI;X-ADDRESS=Jacob Willemszoonstraat 8\,
  Zaandam\, Nederland;X-APPLE-RADIUS=100;X-TITLE=Holoase:geo:0,0
END:VEVENT
BEGIN:VTIMEZONE
TZID:Europe/Amsterdam
X-LIC-LOCATION:Europe/Amsterdam
BEGIN:STANDARD
DTSTART:20241027T020000
TZOFFSETFROM:+0200
TZOFFSETTO:+0100
TZNAME:CET
END:STANDARD
END:VTIMEZONE
END:VCALENDAR