BEGIN:VCALENDAR
VERSION:2.0
PRODID:-//wp-events-plugin.com//7.2.3.1//EN
TZID:Europe/Amsterdam
X-WR-TIMEZONE:Europe/Amsterdam
BEGIN:VEVENT
UID:35941@agenda-zaanstreek.nl
DTSTART;TZID=Europe/Amsterdam:20250120T090000
DTEND;TZID=Europe/Amsterdam:20250228T210000
DTSTAMP:20250121T105128Z
URL:https://agenda-zaanstreek.nl/events/mini-expositie-t-inkijkje-i-love-h
 andmade/
SUMMARY:Mini expositie ’t inkijkje: I Love Handmade
DESCRIPTION:Even een kijkje nemen bij een van de cursussen van onze netwerk
 docenten? Dat kan met het ’t inkijkje! Wat geven ze voor cursus? Wat doe
 n de cursisten? Wat voor materialen worden er gebruikt? Eens in de zoveel 
 tijd geeft een andere docent een impressie van de sfeer van zijn/haar curs
 us. Dit keer nemen we een kijkje bij de workshop ‘I love handmade’ van
  Nathalie Prins – van Duin. Ze is textiel docent\, kostuum ontwerper\, o
 rganisator van Kunst om het lijf en één van de begeleiders van Maakplek 
 Eindeloos Textiel.\n\nLocatie:&nbsp\;De expositie is te zien in de overdek
 te passage van de Verkadefabriek aan de Westzijde 168 en is te vinden aan 
 via de Noordingang van de Verkadefabriek aan de Zaankant\, en loopt vanaf 
 de parkeerplaats tot het binnenplein.\n\nOpeningstijden:&nbsp\;De passage 
 is open tussen 9.00 en 21.00 uur.\n\nEntree:&nbsp\;Gratis\n\nhttps://www.f
 luxus.nl/agenda/mini-expo-t-inkijkje-i-love-handmade/
CATEGORIES:Expositie
LOCATION:Fluxus\, centrum voor de kunsten - locatie Verkade\, Westzijde 168
 \, Zaandam\, 1506 EK\, Nederland
X-APPLE-STRUCTURED-LOCATION;VALUE=URI;X-ADDRESS=Westzijde 168\, Zaandam\, 1
 506 EK\, Nederland;X-APPLE-RADIUS=100;X-TITLE=Fluxus\, centrum voor de kun
 sten - locatie Verkade:geo:0,0
END:VEVENT
BEGIN:VTIMEZONE
TZID:Europe/Amsterdam
X-LIC-LOCATION:Europe/Amsterdam
BEGIN:STANDARD
DTSTART:20241027T020000
TZOFFSETFROM:+0200
TZOFFSETTO:+0100
TZNAME:CET
END:STANDARD
END:VTIMEZONE
END:VCALENDAR