BEGIN:VCALENDAR
VERSION:2.0
PRODID:-//wp-events-plugin.com//7.2.3.1//EN
TZID:Europe/Amsterdam
X-WR-TIMEZONE:Europe/Amsterdam
BEGIN:VEVENT
UID:37346@agenda-zaanstreek.nl
DTSTART;TZID=Europe/Amsterdam:20250228T210000
DTEND;TZID=Europe/Amsterdam:20250228T210000
DTSTAMP:20250213T131131Z
URL:https://agenda-zaanstreek.nl/events/mengelmoes-neon-vibes/
SUMMARY:Mengelmoes (neon Vibes)
DESCRIPTION:\n\n\n\n\n\n\n\n\n\n 	\n&nbsp\;\n 	\n\nvrijdag\, feb 28\, 2025O
 pen: 20:30Aanvang: 21:00Prijs: Deur: €15\,-\n\n\n\n\n\nDe 2e MENGELMOES 
 editie komt er aan\nOp deze super mooie lokatie\nDe Groote Weiver in Worme
 rveer voelde wij ons direct thuis\nZo willen wij jullie ook verwelkomen in
  ons feestgedruis geheel in neon style\nOnze eerste editie was een groot s
 ucces\nZo brengen wij graag iedereen in harmonie bij elkaar om zo de Menge
 lmoes happy vibe te creëeren\nDe bar prijzen bij de Groote Weiver zijn oo
 k schappelijk\nDe Groote Weiver draait dan ook op vrijwilligers\nZo vragen
  wij jullie ook een handje te helpen door jullie glazen netjes terug te br
 engen aan de bar\n\nOok hebben wij een creatief hoekje waar jij in de neon
  schmink kan worden omgetoverd door onze top visagiste Gerry-Ann\nOf je ku
 nt met een neon accessoire bij ons in style worden gebracht\nZo zetten wij
  iedereen gezellig in t kleurrijke licht✨\n\nMengelmoes staat voor versc
 hillende genres muziek &amp\; daarmee willen wij iedereen bereiken &amp\; 
 is iedereen ook welkom vanaf de leeftijd 16 jaar tot ouder\nEr word old sc
 hool met vinylplaten gedraaid &amp\; we gaan er een mooi Mengelmoesje van 
 maken\nHeerLijk voetjes van de vloer &amp\; Lekker connecten bij het vuur\
 nSuper fijn momentje mee pakken voordat het festivalseizoen weer begint\n\
 nEntree €15\,-\n\nWij ontvangen jullie in Liefde\nLiefs Team&nbsp\;Menge
 lmoes&nbsp\;❤\n\n\n\n\n\n\n
CATEGORIES:Muziek
LOCATION:De Groote Weiver\, Industrieweg 1a\, Wormerveer\, 1521 NA\, Wormer
 veer\, Nederland
X-APPLE-STRUCTURED-LOCATION;VALUE=URI;X-ADDRESS=Industrieweg 1a\, Wormervee
 r\, 1521 NA\, Wormerveer\, Nederland;X-APPLE-RADIUS=100;X-TITLE=De Groote 
 Weiver:geo:0,0
END:VEVENT
BEGIN:VTIMEZONE
TZID:Europe/Amsterdam
X-LIC-LOCATION:Europe/Amsterdam
BEGIN:STANDARD
DTSTART:20241027T020000
TZOFFSETFROM:+0200
TZOFFSETTO:+0100
TZNAME:CET
END:STANDARD
END:VTIMEZONE
END:VCALENDAR