BEGIN:VCALENDAR
VERSION:2.0
PRODID:-//wp-events-plugin.com//7.2.3.1//EN
TZID:Europe/Amsterdam
X-WR-TIMEZONE:Europe/Amsterdam
BEGIN:VEVENT
UID:38629@agenda-zaanstreek.nl
DTSTART;TZID=Europe/Amsterdam:20250907T000000
DTEND;TZID=Europe/Amsterdam:20250907T000000
DTSTAMP:20250508T154225Z
URL:https://agenda-zaanstreek.nl/events/megahit-muziek-parade-zaandam/
SUMMARY:Megahit Muziek Parade Zaandam
DESCRIPTION:\nTerwijl we druk bezig zijn met het voorbereiden van Megahit m
 uziek Parade + film premiere te Oudorp bij Zaal Meereboer\n(deze line up i
 s vol \, en ook hier zijn er awards)\n\n\nzijn we ook al bezig met de volg
 ende editie voor\n7 September MEGAHIT MUZIEK PARADE ZAANDAM met awards en 
 megahit top 200 toppers .\nCafé De Oude Herberg Zaandam KLAUWERSHOEK 2 me
 t in elk geval Roy Junior Jimmy Hadders Andre Pronk Johnny Valentino Richa
 rd Craane John Enter . Maar we hebben nog een paar plekjes vrij hiervoor w
 il jij als artiest hier bij mail dan naar info@grom-media.com (vol=vol)\n
CATEGORIES:Horeca,Muziek
LOCATION:Café de Oude Herberg\, Klauwershoek 2\, Zaandam\, 1501 NA\, Neder
 land
X-APPLE-STRUCTURED-LOCATION;VALUE=URI;X-ADDRESS=Klauwershoek 2\, Zaandam\, 
 1501 NA\, Nederland;X-APPLE-RADIUS=100;X-TITLE=Café de Oude Herberg:geo:0
 ,0
END:VEVENT
BEGIN:VTIMEZONE
TZID:Europe/Amsterdam
X-LIC-LOCATION:Europe/Amsterdam
BEGIN:DAYLIGHT
DTSTART:20250330T030000
TZOFFSETFROM:+0100
TZOFFSETTO:+0200
TZNAME:CEST
END:DAYLIGHT
END:VTIMEZONE
END:VCALENDAR