BEGIN:VCALENDAR
VERSION:2.0
PRODID:-//wp-events-plugin.com//7.2.3.1//EN
TZID:Europe/Amsterdam
X-WR-TIMEZONE:Europe/Amsterdam
BEGIN:VEVENT
UID:36594@agenda-zaanstreek.nl
DTSTART;TZID=Europe/Amsterdam:20250201T090000
DTEND;TZID=Europe/Amsterdam:20250202T160000
DTSTAMP:20241229T210756Z
URL:https://agenda-zaanstreek.nl/events/mega-snuffelmarkt-bij-taets/
SUMMARY:Mega Snuffelmarkt bij Taets
DESCRIPTION:Mega Snuffelmarkt bij Taets Zaandam.In de grote beurshal op het
  Hembrug terrein.
CATEGORIES:Markt Braderie
LOCATION:Taets Art and Event Park | Hembrugterrein\, Hemkade 18\, Zaandam\,
  1506 PR\, Nederland
X-APPLE-STRUCTURED-LOCATION;VALUE=URI;X-ADDRESS=Hemkade 18\, Zaandam\, 1506
  PR\, Nederland;X-APPLE-RADIUS=100;X-TITLE=Taets Art and Event Park | Hemb
 rugterrein:geo:0,0
END:VEVENT
BEGIN:VTIMEZONE
TZID:Europe/Amsterdam
X-LIC-LOCATION:Europe/Amsterdam
BEGIN:STANDARD
DTSTART:20241027T020000
TZOFFSETFROM:+0200
TZOFFSETTO:+0100
TZNAME:CET
END:STANDARD
END:VTIMEZONE
END:VCALENDAR