BEGIN:VCALENDAR
VERSION:2.0
PRODID:-//wp-events-plugin.com//7.2.3.1//EN
TZID:Europe/Amsterdam
X-WR-TIMEZONE:Europe/Amsterdam
BEGIN:VEVENT
UID:37748@agenda-zaanstreek.nl
DTSTART;TZID=Europe/Amsterdam:20250413T140000
DTEND;TZID=Europe/Amsterdam:20250413T140000
DTSTAMP:20250313T101807Z
URL:https://agenda-zaanstreek.nl/events/meesterlijk-pianospel-en-virtuoos-
 trompettalent-op-verjaardagsconcert/
SUMMARY:Meesterlijk pianospel en virtuoos trompettalent op verjaardagsconce
 rt
DESCRIPTION:De Zaanse trompettiste Melissa Venema geeft op 13 april een ver
 jaardagsconcert in de Maria Magdalenakerk\, Dorpsstraat 351 in Wormer. Ze 
 viert haar dertigjarige verjaardag samen met meesterpianist Wibi Soerjadi.
 \nKroonjaar trompettiste Melissa Venema zorgt voor concert met meesterpian
 ist Wibi Soerjadi Wibi en Melissa kennen elkaar nu ongeveer twaalf jaar. A
 l vele jaren geven ze samen enkele concerten per jaar. Ze leerden elkaar p
 ersoonlijk kennen bij een auditie van Melissa toen ze achttien jaar was. B
 ij die auditie kreeg ze van Wibi de 'gouden stoel' omdat hij erg onder de 
 indruk was van de toon van haar trompetspel en muzikaliteit. Vanaf dat mom
 ent is hun muzikale vriendschap ontstaan\, met hun wederzijdse grote liefd
 e voor de muziek.&nbsp\;\nProgramma\nMelissa is onder de indruk van Wibi
 ’s virtuositeit en muzikaliteit. Daarnaast is hij een geweldig begeleide
 r met zijn pianospel. Als Wibi en Melissa samen spelen gaat hun optreden n
 aar een hoog niveau. In 2017 heeft Wibi een prachtig concertstuk geschreve
 n voor trompet\, genaamd The Kingdom. In december 2017\, in het Koninklijk
  Concertgebouw hebben ze dit muziekstuk samen voor het eerst uitgevoerd me
 t groot succes. Voor de pauze worden er klassieke werken gespeeld\, zoals 
 Chopin\, Rachmaninov en het\nHaydn trompetconcert.&nbsp\;\n\nBron: Rodi
CATEGORIES:Muziek
LOCATION:Maria Magdalena kerk Wormer\, Dorpsstraat 351\, Wormer\, 1531 HJ\,
  Nederland
X-APPLE-STRUCTURED-LOCATION;VALUE=URI;X-ADDRESS=Dorpsstraat 351\, Wormer\, 
 1531 HJ\, Nederland;X-APPLE-RADIUS=100;X-TITLE=Maria Magdalena kerk Wormer
 :geo:0,0
END:VEVENT
BEGIN:VTIMEZONE
TZID:Europe/Amsterdam
X-LIC-LOCATION:Europe/Amsterdam
BEGIN:DAYLIGHT
DTSTART:20250330T030000
TZOFFSETFROM:+0100
TZOFFSETTO:+0200
TZNAME:CEST
END:DAYLIGHT
END:VTIMEZONE
END:VCALENDAR