BEGIN:VCALENDAR
VERSION:2.0
PRODID:-//wp-events-plugin.com//7.2.3.1//EN
TZID:Europe/Amsterdam
X-WR-TIMEZONE:Europe/Amsterdam
BEGIN:VEVENT
UID:35922@agenda-zaanstreek.nl
DTSTART;TZID=Europe/Amsterdam:20250102T133000
DTEND;TZID=Europe/Amsterdam:20250102T160000
DTSTAMP:20241121T110033Z
URL:https://agenda-zaanstreek.nl/events/meester-jesper-kraakt-de-code-6-va
 n-tiktok-naar-het-theater-2x/
SUMMARY:Meester Jesper kraakt de code (6+) - Van TikTok naar het theater! (
 2x)
DESCRIPTION:\n\n 	&nbsp\;\n 	Jeugd &amp\; Familie\n\n\n\ndo2 jan 202513.30A
 lbert HeijnzaalBestel\ndo2 jan 202516.00Albert HeijnzaalBestel\nMeer Info\
 n\n\nAls geen ander weet Meester Jesper kennis vergaren leuk en magisch te
  maken. Dat blijkt wel uit de miljoen volgers die hij heeft op Instagram\,
  TikTok en YouTube. Nu gaat hij het theater in! Speciaal voor nieuwsgierig
 e kinderen en hun ouders. Aan de hand van een spannend verhaal\, dat aansl
 uit bij de belevingswereld van kinderen\, en een bijzonder kleurrijk decor
  vol creativiteit en technologie beleef je een show vol inspiratie\, humor
  en inzicht.\n\n\n\nLees meer\n
CATEGORIES:Jeugd en Familie
LOCATION:Zaantheater\, Nicolaasstraat 3\, Zaandam\, 1506 BB\, Nederland
X-APPLE-STRUCTURED-LOCATION;VALUE=URI;X-ADDRESS=Nicolaasstraat 3\, Zaandam\
 , 1506 BB\, Nederland;X-APPLE-RADIUS=100;X-TITLE=Zaantheater:geo:0,0
END:VEVENT
BEGIN:VTIMEZONE
TZID:Europe/Amsterdam
X-LIC-LOCATION:Europe/Amsterdam
BEGIN:STANDARD
DTSTART:20241027T020000
TZOFFSETFROM:+0200
TZOFFSETTO:+0100
TZNAME:CET
END:STANDARD
END:VTIMEZONE
END:VCALENDAR